BEGIN:VCALENDAR
VERSION:2.0
PRODID:-//wp-events-plugin.com//7.2.3.1//EN
TZID:America/Detroit
X-WR-TIMEZONE:America/Detroit
BEGIN:VEVENT
UID:30630@arabamerica.com
DTSTART;TZID=America/Detroit:20230715T130000
DTEND;TZID=America/Detroit:20230715T130000
DTSTAMP:20230307T043659Z
URL:https://www.arabamerica.com/events/ramallah-clubs-17th-annual-golf-out
 ing/
SUMMARY:Ramallah Club's 17th Annual Golf Outing
DESCRIPTION:SOUTH LYON\, MI\n\nJoin the Ramallah Club of Detroit for their 
 17th Annual Gold Outing
ATTACH;FMTTYPE=image/jpeg:https://www.arabamerica.com/wp-content/uploads/2
 023/03/unnamed.jpg
CATEGORIES:Community,culture,Food,Fundraiser
LOCATION:Tanglewood Golf Club & Restaurant\, 22805 Country Club Dr.\, South
  Lyon\, MI\, 48178\, United States
GEO:42.455756;-83.580637
X-APPLE-STRUCTURED-LOCATION;VALUE=URI;X-ADDRESS=22805 Country Club Dr.\, So
 uth Lyon\, MI\, 48178\, United States;X-APPLE-RADIUS=100;X-TITLE=Tanglewoo
 d Golf Club & Restaurant:geo:42.455756,-83.580637
END:VEVENT
BEGIN:VTIMEZONE
TZID:America/Detroit
X-LIC-LOCATION:America/Detroit
BEGIN:DAYLIGHT
DTSTART:20230312T030000
TZOFFSETFROM:-0500
TZOFFSETTO:-0400
TZNAME:EDT
END:DAYLIGHT
END:VTIMEZONE
END:VCALENDAR