BEGIN:VCALENDAR
VERSION:2.0
PRODID:-//wp-events-plugin.com//7.2.3.1//EN
TZID:America/Detroit
X-WR-TIMEZONE:America/Detroit
BEGIN:VEVENT
UID:35201@arabamerica.com
DTSTART;TZID=America/New_York:20251101T180000
DTEND;TZID=America/New_York:20251101T193000
DTSTAMP:20251007T213240Z
URL:https://www.arabamerica.com/events/ramzi-aburedwan-dalouna-ensemble-in
 -concert/
SUMMARY:Ramzi Aburedwan & Dal’ouna Ensemble in Concert
DESCRIPTION:BOSTON\, MA\n\n&nbsp\;\n\nJoin Ramzi Aburedwan &amp\; Dal’oun
 a Ensemble in Concert - With Guest Violinist Michael Dabroski &amp\; CAC J
 azal Choir.\n\nTree of Life Educational Fund &amp\; The Center for Arabic 
 Culture (CAC) Present\n\nRamzi Aburedwan and his Dal’ouna Ensemble in Co
 ncert\n\nJoin us Saturday\, November 1 in Boston\, MA For a discovery of t
 he Levantine musical universe\, between creation and tradition.\n\nSaturda
 y\, November 1\, 2025 at 6:00 p.m.\n\nDoors open at 5:30 pm \n\nAddress: \
 nFirst Church of Boston\n66 Marlborough Street\n\nTicket Sale Online Only\
 n\nGet Tickets Here
ATTACH;FMTTYPE=image/jpeg:https://www.arabamerica.com/wp-content/uploads/2
 025/10/Screenshot-2025-10-07-at-5.27.07-PM.png
LOCATION:66 Marlborough St\, 66 Marlborough St\, Boston\, MA\, 02116\, Unit
 ed States
GEO:42.353615;-71.075132
X-APPLE-STRUCTURED-LOCATION;VALUE=URI;X-ADDRESS=66 Marlborough St\, Boston\
 , MA\, 02116\, United States;X-APPLE-RADIUS=100;X-TITLE=66 Marlborough St:
 geo:42.353615,-71.075132
END:VEVENT
BEGIN:VTIMEZONE
TZID:America/New_York
X-LIC-LOCATION:America/New_York
BEGIN:DAYLIGHT
DTSTART:20250309T030000
TZOFFSETFROM:-0500
TZOFFSETTO:-0400
TZNAME:EDT
END:DAYLIGHT
END:VTIMEZONE
END:VCALENDAR