BEGIN:VCALENDAR
VERSION:2.0
PRODID:-//wp-events-plugin.com//7.2.3.1//EN
TZID:America/Detroit
X-WR-TIMEZONE:America/Detroit
BEGIN:VEVENT
UID:35771@arabamerica.com
DTSTART;TZID=America/Los_Angeles:20260211T190000
DTEND;TZID=America/Los_Angeles:20260211T203000
DTSTAMP:20260128T010645Z
URL:https://www.arabamerica.com/events/ramzy-baroud-presents-before-the-fl
 ood/
SUMMARY:Ramzy Baroud presents 'Before the Flood'
DESCRIPTION:LAKE FOREST PARK\, WA\n\n​"Ramzy Baroud aspires to nothing le
 ss than to tell the story of Palestine on Palestine’s own terms." —Oma
 r Zahzah\n\n\nThird Place Books welcomes Palestinian author\, historian\, 
 and academic Ramzy Baroud to our Lake Forest Park store for a conversati
 on about his new book\, Before the Flood: A Gaza Family Memoir Across Thr
 ee Generations of Colonial Invasion\, Occupation\, and War in Palestine.\n
 \nREGISTER\n\n
ATTACH;FMTTYPE=image/jpeg:https://www.arabamerica.com/wp-content/uploads/2
 026/01/Screenshot-2026-01-27-at-6.54.02-PM.png
LOCATION:Third Place Books\, 17171 Bothell Way\, Lake Forest Park\, WA\, 98
 155\, United States
GEO:47.75401;-122.280368
X-APPLE-STRUCTURED-LOCATION;VALUE=URI;X-ADDRESS=17171 Bothell Way\, Lake Fo
 rest Park\, WA\, 98155\, United States;X-APPLE-RADIUS=100;X-TITLE=Third Pl
 ace Books:geo:47.75401,-122.280368
END:VEVENT
BEGIN:VTIMEZONE
TZID:America/Los_Angeles
X-LIC-LOCATION:America/Los_Angeles
BEGIN:STANDARD
DTSTART:20251102T010000
TZOFFSETFROM:-0700
TZOFFSETTO:-0800
TZNAME:PST
END:STANDARD
END:VTIMEZONE
END:VCALENDAR