BEGIN:VCALENDAR
VERSION:2.0
PRODID:-//wp-events-plugin.com//7.2.3.1//EN
TZID:America/Detroit
X-WR-TIMEZONE:America/Detroit
BEGIN:VEVENT
UID:35593@arabamerica.com
DTSTART;TZID=America/Los_Angeles:20260314T184500
DTEND;TZID=America/Los_Angeles:20260314T210000
DTSTAMP:20251217T022722Z
URL:https://www.arabamerica.com/events/ravenna-iftar-dinner-for-christians
 -and-muslims/
SUMMARY:Ravenna Iftar dinner for Christians and Muslims
DESCRIPTION:A dinner for Christians and Muslims to make friends and have me
 aningful conversation about life's biggest questions.\nChristianity and Is
 lam are the world's biggest ideas and it is important that we have meaning
 ful conversations and real friendships with one another.
ATTACH;FMTTYPE=image/jpeg:https://www.arabamerica.com/wp-content/uploads/2
 025/12/https___cdn.evbuc_.com_images_1173020201_297380377295_1_original.jp
 g
CATEGORIES:Christian Mixer,Iftar,Iftar Dinner,Muslim,Seattle
LOCATION:Roots Ministry Hub\, 2016b Northeast 65th St\, Seattle\, WA\, 9811
 5\, United States
GEO:47.676044;-122.305736
X-APPLE-STRUCTURED-LOCATION;VALUE=URI;X-ADDRESS=2016b Northeast 65th St\, S
 eattle\, WA\, 98115\, United States;X-APPLE-RADIUS=100;X-TITLE=Roots Minis
 try Hub:geo:47.676044,-122.305736
END:VEVENT
BEGIN:VTIMEZONE
TZID:America/Los_Angeles
X-LIC-LOCATION:America/Los_Angeles
BEGIN:DAYLIGHT
DTSTART:20260308T030000
TZOFFSETFROM:-0800
TZOFFSETTO:-0700
TZNAME:PDT
END:DAYLIGHT
END:VTIMEZONE
END:VCALENDAR