BEGIN:VCALENDAR
VERSION:2.0
PRODID:-//wp-events-plugin.com//7.2.3.1//EN
TZID:America/Detroit
X-WR-TIMEZONE:America/Detroit
BEGIN:VEVENT
UID:31478@arabamerica.com
DTSTART;TZID=America/Detroit:20231010T190000
DTEND;TZID=America/Detroit:20231010T203000
DTSTAMP:20230801T172625Z
URL:https://www.arabamerica.com/events/reading-the-classics-with-ilan-stav
 ans-arabian-nights/
SUMMARY:Reading the Classics with Ilan Stavans : Arabian Nights
DESCRIPTION:ONLINE\n\nModerated by scholar Ilan Stavans\nAward-winning\, in
 ternationally-renowned teacher\, essayist\, translator\, and cultural crit
 ic Ilan Stavans is the publisher of Restless Books\, the Lewis-Sebring Pro
 fessor of Humanities\, Latin American and Latino Culture at Amherst Colleg
 e\, and a consultant to the Oxford English Dictionary. The recipient of an
 y honors\, his books\, translated into numerous languages and adapted into
  film\, radio\, theater\, and TV\, include On Borrowed Words (2001)\, Span
 glish (2003)\, The Disappearance (2006)\, Dictionary days (2008)\, Becomin
 g Americans (2011)\, Gabriel García Marquez: The Early Days (2013)\, Quix
 ote: The Novel and the World (2015)\, and How Yiddish Changed America and 
 America Changed Yiddish (2020)\, and Selected Translations\; Poems 2000-20
 20 (2021). Born in Mexico\, he has translated Jorge Luis Borges\, Pable Ne
 ruda\, and Juan Rulfo into English\, Emily Dickinson and Elizabeth Bishop 
 into Spanish\, Isaac Bashevis Singer from Yiddish\, Yehuda Amichai from He
 brew\, and Don Quixote of La Mancha and Alice in Wonderland into Spanglish
 .
ATTACH;FMTTYPE=image/jpeg:https://www.arabamerica.com/wp-content/uploads/2
 023/08/Screenshot-2023-08-01-at-8.24.56-PM.png
CATEGORIES:#arabic,Community,culture,Discussion,Lecture,Music/Folk/World
END:VEVENT
BEGIN:VTIMEZONE
TZID:America/Detroit
X-LIC-LOCATION:America/Detroit
BEGIN:DAYLIGHT
DTSTART:20230312T030000
TZOFFSETFROM:-0500
TZOFFSETTO:-0400
TZNAME:EDT
END:DAYLIGHT
END:VTIMEZONE
END:VCALENDAR