BEGIN:VCALENDAR
VERSION:2.0
PRODID:-//wp-events-plugin.com//7.2.3.1//EN
TZID:America/Detroit
X-WR-TIMEZONE:America/Detroit
BEGIN:VEVENT
UID:34810@arabamerica.com
DTSTART;TZID=America/Detroit:20250817T183000
DTEND;TZID=America/Detroit:20250817T203000
DTSTAMP:20250806T000128Z
URL:https://www.arabamerica.com/events/reem-edan-headliner-dc-comedy-loft/
SUMMARY:Reem Edan\, Headliner: DC Comedy Loft
DESCRIPTION:WASHINGTON\, DC\n\nReem Edan is an Iraqi-American comedian\, co
 ntent creator\, award-winning writer\, and actress based in Los Angeles. A
 fter appearing on shows like "The Stand Up Sketch Show" and Showtime’s 
 “Desus &amp\; Mero\,” festivals like Netflix Is a Joke and the Dubai C
 omedy Festival\, Sirius XM\, and amassing tens of millions of views online
 \, she has crafted a truly international fan-base that's translated to sol
 d-out shows at renowned venues around the globe. Using edgy humor\, colorf
 ul storytelling\, and witty commentary\, Reem masterfully explores her fir
 st-generation identity\, offering universally hilarious insights into what
  life is really like as a millennial woman living in the gray (or brown) a
 rea in between.\n\n&nbsp\;\n\nTo buy tickets\, click here\n\n&nbsp\;\n\n&n
 bsp\;
ATTACH;FMTTYPE=image/jpeg:https://www.arabamerica.com/wp-content/uploads/2
 025/07/REEM-EDAN-AUG-17.jpg
END:VEVENT
BEGIN:VTIMEZONE
TZID:America/Detroit
X-LIC-LOCATION:America/Detroit
BEGIN:DAYLIGHT
DTSTART:20250309T030000
TZOFFSETFROM:-0500
TZOFFSETTO:-0400
TZNAME:EDT
END:DAYLIGHT
END:VTIMEZONE
END:VCALENDAR