BEGIN:VCALENDAR
VERSION:2.0
PRODID:-//wp-events-plugin.com//7.2.3.1//EN
TZID:America/Detroit
X-WR-TIMEZONE:America/Detroit
BEGIN:VEVENT
UID:34000@arabamerica.com
DTSTART;TZID=America/Detroit:20250315T190000
DTEND;TZID=America/Detroit:20250315T230000
DTSTAMP:20250121T224408Z
URL:https://www.arabamerica.com/events/renton-iftar-dinner-for-christians-
 and-muslims-2/
SUMMARY:Renton Iftar dinner for Christians and Muslims
DESCRIPTION:\n\nA dinner for Christians and Muslims to make friends and hav
 e meaningful conversation about life's biggest questions.\n\n\n\n\n\n\n\n\
 n\n\n\n\n\n\n\n
CATEGORIES:#arabic,Arab American,Community,culture,Discussion
LOCATION:Sunset Community Church\, 1032 Edmonds Avenue Northeast \, Renton\
 , WA\, 98056\, United States
GEO:47.499984;-122.185189
X-APPLE-STRUCTURED-LOCATION;VALUE=URI;X-ADDRESS=1032 Edmonds Avenue Northea
 st \, Renton\, WA\, 98056\, United States;X-APPLE-RADIUS=100;X-TITLE=Sunse
 t Community Church:geo:47.499984,-122.185189
END:VEVENT
BEGIN:VTIMEZONE
TZID:America/Detroit
X-LIC-LOCATION:America/Detroit
BEGIN:DAYLIGHT
DTSTART:20250309T030000
TZOFFSETFROM:-0500
TZOFFSETTO:-0400
TZNAME:EDT
END:DAYLIGHT
END:VTIMEZONE
END:VCALENDAR