BEGIN:VCALENDAR
VERSION:2.0
PRODID:-//wp-events-plugin.com//7.2.3.1//EN
TZID:America/Detroit
X-WR-TIMEZONE:America/Detroit
BEGIN:VEVENT
UID:32788@arabamerica.com
DTSTART;TZID=America/Detroit:20240518T213000
DTEND;TZID=America/Detroit:20240519T020000
DTSTAMP:20240507T235216Z
URL:https://www.arabamerica.com/events/resist/
SUMMARY:RESIST
DESCRIPTION:\n\n\n\n\n\nSEATTLE\, WA\n\nIn response to the horrific acts of
  genocide by occupying israeli government and their allies against palesti
 nians in palestine\, RIZE Entertainment brings you: RESIST.\n\nThe human r
 ights violations\, war crimes\, and murder of tens of thousands Palestinia
 ns is something we can all stand up against. Attendees will be able to cho
 ose one of two places for their ticket money/donations to go in support of
  Palestinians in Gaza.\n\nThey can choose the Ajyal foundation on the grou
 nd in Gaza. Our board chair\, Natali Lukata\, a Palestinian woman whose fa
 mily fled Palestine in 1994\, has a family connection working at the found
 ation who will make sure the funds go to direct support of those in need i
 n Gaza. Ajyal has been delivering food to displaced families in Gaza and p
 roviding psychosocial activities for displaced children in Gaza suffering 
 from anxiety\, depression\, post-traumatic stress disorder (PTSD)\, and ot
 her adverse mental health conditions as a direct result of the genocide.\n
 \nThe other option will be for your ticket/donation to go towards supporti
 ng Natali's family cross the borders from Gaza to Egypt to safety which co
 sts $5000 per person. Her cousin Safa\, along with her husband Raed and 4 
 children Yaza\, Mohammad\, Zeins and Talal are trying to evacuate but can
 ’t afford to.\n\nWe will also be holding a supply drive for our local re
 fugee community.\n\nCome dance with us for an important cause with Palesti
 nian DJs\, I.S.H. and WHODINII\, and other local DJs\, BacknBodyHertz\, Fa
 ridaguyzzz\, and Tony H who believe in a FREE PALESTINE.\n\n\nAll proceeds
  go to supporting families in Gaza.\n\n\n\n\n\n\n\n
ATTACH;FMTTYPE=image/jpeg:https://www.arabamerica.com/wp-content/uploads/2
 024/05/temp.jpg
LOCATION:GOLD BAR\, 1416 East Olive Way\, Seattle\, Washington\, 98112\, Un
 ited States
GEO:47.6176;-122.326593
X-APPLE-STRUCTURED-LOCATION;VALUE=URI;X-ADDRESS=1416 East Olive Way\, Seatt
 le\, Washington\, 98112\, United States;X-APPLE-RADIUS=100;X-TITLE=GOLD BA
 R:geo:47.6176,-122.326593
END:VEVENT
BEGIN:VTIMEZONE
TZID:America/Detroit
X-LIC-LOCATION:America/Detroit
BEGIN:DAYLIGHT
DTSTART:20240310T030000
TZOFFSETFROM:-0500
TZOFFSETTO:-0400
TZNAME:EDT
END:DAYLIGHT
END:VTIMEZONE
END:VCALENDAR