BEGIN:VCALENDAR
VERSION:2.0
PRODID:-//wp-events-plugin.com//7.2.3.1//EN
TZID:America/Detroit
X-WR-TIMEZONE:America/Detroit
BEGIN:VEVENT
UID:32361@arabamerica.com
DTSTART;TZID=America/Detroit:20240311T183000
DTEND;TZID=America/Detroit:20240311T210000
DTSTAMP:20240304T123634Z
URL:https://www.arabamerica.com/events/resistance-climbing-film-screening-
 and-fundraiser/
SUMMARY:Resistance Climbing Film Screening and Fundraiser
DESCRIPTION:OR.\n\n\n\n\n\n\n\n\n\nJoin Portland area outdoor enthusiasts f
 or a screening of the 2023 Reel Rock Film "Resistance Climbing\," a 40 min
 ute documentary that highlights the inspiring community of climbers in Occ
 upied Palestine. Following the screening\, there will be a Zoom Q&amp\;A f
 eaturing climbers from the film. The event will close with an amazing raff
 le with items donated from Arc'teryx\, Mountain Hardware\, Patagonia\, Evo
 \, Metolius\, The Circuit\, and other local buinesses/climbing gyms/artist
 s!\n\nAll ticket sales and raffle proceeds will be donated to HEAL Palesti
 ne\, an organization dedicated to providing urgent and long-term solutions
  for Palestinians.\n\nConcessions available for purchase from Clinton Stre
 et Theater.\n\nWe've partnered with Bar Norman for a pre-show happy hour f
 rom 430-630pm\, with 10% of sales donated to HEAL Palestine.\n\nAfter the 
 event\, join us next door from 9-10pm for a post-event social at Lucky Hor
 seshoe Lounge\, with 25% of all sales donated to HEAL Palestine.\n\n\n\n\n
 \n\n\n\n\n\n\n\n\n\n\n
ATTACH;FMTTYPE=image/jpeg:https://www.arabamerica.com/wp-content/uploads/2
 024/03/https___cdn.evbuc_.com_images_699993819_317902531781_1_original.jpe
 g
LOCATION:Clinton Street Theater\, 2522 SE Clinton St\, Portland\, Oregon\, 
 United States
GEO:45.5032295;-122.6398838
X-APPLE-STRUCTURED-LOCATION;VALUE=URI;X-ADDRESS=2522 SE Clinton St\, Portla
 nd\, Oregon\, United States;X-APPLE-RADIUS=100;X-TITLE=Clinton Street Thea
 ter:geo:45.5032295,-122.6398838
END:VEVENT
BEGIN:VTIMEZONE
TZID:America/Detroit
X-LIC-LOCATION:America/Detroit
BEGIN:DAYLIGHT
DTSTART:20240310T030000
TZOFFSETFROM:-0500
TZOFFSETTO:-0400
TZNAME:EDT
END:DAYLIGHT
END:VTIMEZONE
END:VCALENDAR