BEGIN:VCALENDAR
VERSION:2.0
PRODID:-//wp-events-plugin.com//7.2.3.1//EN
TZID:America/Detroit
X-WR-TIMEZONE:America/Detroit
BEGIN:VEVENT
UID:35282@arabamerica.com
DTSTART;TZID=America/New_York:20251102T140000
DTEND;TZID=America/New_York:20251102T180000
DTSTAMP:20251021T212154Z
URL:https://www.arabamerica.com/events/rest-to-rise-give-to-nourish-new-da
 te/
SUMMARY:Rest to Rise: Give to Nourish [NEW DATE]
DESCRIPTION:PHILADELPHIA\, PA\n\nA day of mindful stillness\, gentle moveme
 nt\, and collective care. Raising funds to provide parcels of food to disp
 laced Palestinians in Gaza\n\n\n\nTHIS EVENT was orginally scheduled for O
 ct. 12.\n\nPlease join La La Lil Jidar and Yogis for Palestine for a day o
 f mindful stillness\, gentle movement\, and collective care—rooted in th
 e belief that when we restore ourselves\, we rise stronger for others. Thr
 ough yoga\, meditation\, and shared wellness practices\, we remember Gaza 
 and channel our inner peace into tangible action to continue our resistanc
 e by raising funds to provide food parcels for displaced Palestinian famil
 ies living in tents in Gaza. Every breath taken in stillness becomes a rip
 ple of nourishment reaching a Palestinian heart.\n\nThe day will include y
 oga\, panel discussion on mental health\, breathwork\, poetry\, kids art\,
  food from local SWANA chefs\, vendors\, and raffle. Please bring a mat if
  you are able to. Feel free to participate in any part of the day. See age
 nda below for tentative times of different parts of the program.\n\nPrimar
 y Goal: Fund at least 50 food parcels ($5\,000) to feed 50 families (appro
 x. 250–350 people).\n\nEntry:\n\nNo one will be turned away. This is a s
 liding scale event in which all funds go directly to Renew Root. We are as
 king for a minimum of $25 if possible. $100 feeds one family for a week. A
 ny entry donations $125+ will have your name/message on a food parcel dist
 ributed in Al Mawasi\, Palestine.\n\n\n\n\n\n\nRenew Roots\n\nRenew Roots 
 works with trusted local teams to assemble and deliver food parcels direct
 ly to families in Gaza. Parcels contain essentials such as rice\, lentils\
 , beans\, flour\, oil\, canned goods\, and fresh produce where possible. F
 amilies are prioritized based on urgency—widows\, households with young 
 children\, or those with no other source of aid. Direct aid means no middl
 emen—funds go from donors to Renew Roots to vetted local partners\n\n\n\
 n\n\n\nCo-sponsored by\n\n 	La La Lil Jidar\n 	Yogis For Palestine\n 	Clim
 ber for Palestine Philly\n 	Runners for Justice In Palestine Philly\n\n\n
ATTACH;FMTTYPE=image/jpeg:https://www.arabamerica.com/wp-content/uploads/2
 025/10/Screenshot-2025-10-21-at-5.15.22-PM.png
LOCATION:Studio 34 Yoga Healing Arts\, 4522 Baltimore Avenue \, Philadelphi
 a\, PA\, 19143\, United States
GEO:39.948844;-75.213619
X-APPLE-STRUCTURED-LOCATION;VALUE=URI;X-ADDRESS=4522 Baltimore Avenue \, Ph
 iladelphia\, PA\, 19143\, United States;X-APPLE-RADIUS=100;X-TITLE=Studio 
 34 Yoga Healing Arts:geo:39.948844,-75.213619
END:VEVENT
BEGIN:VTIMEZONE
TZID:America/New_York
X-LIC-LOCATION:America/New_York
BEGIN:STANDARD
DTSTART:20251102T010000
TZOFFSETFROM:-0400
TZOFFSETTO:-0500
TZNAME:EST
END:STANDARD
END:VTIMEZONE
END:VCALENDAR