BEGIN:VCALENDAR
VERSION:2.0
PRODID:-//wp-events-plugin.com//7.2.3.1//EN
TZID:America/Detroit
X-WR-TIMEZONE:America/Detroit
BEGIN:VEVENT
UID:35170@arabamerica.com
DTSTART;TZID=America/Detroit:20251019T160000
DTEND;TZID=America/Detroit:20251019T190000
DTSTAMP:20250930T155256Z
URL:https://www.arabamerica.com/events/restoring-hope-medical-mission-into
 -syria-fundraiser-2/
SUMMARY:Restoring Hope: Medical Mission into Syria Fundraiser
DESCRIPTION:SOUTH WINDSOR\, CT\n\n\n\nWelcome to the Restoring Hope: Medica
 l Mission into Syria Fundraiser! Join us at Maneeley's Banquet &amp\; Cate
 ring for an evening dedicated to supporting a vital medical mission into S
 yria. Your attendance &amp\; donations will enable us to provide free heal
 thcare\, surgeries\, and medications to Syria's massively underserved civi
 lian population. Together\, we can make a real difference in the lives of 
 Syrians and create a sustainable impact. Don't miss the opportunity to con
 tribute to a worthy cause. If you can't make it feel free to donate direct
 ly to AHR. (https://atlantichumanitarianrelief.org)
ATTACH;FMTTYPE=image/jpeg:https://www.arabamerica.com/wp-content/uploads/2
 025/09/https-cdn.evbuc_.com-images-1127697393-1140562668603-1-original.202
 50918-005826.jpeg
LOCATION:65 Rye St\, 65 Rye St\, South Windsor\, Connecticut\, 06074\, Unit
 ed States
GEO:41.857678;-72.595877
X-APPLE-STRUCTURED-LOCATION;VALUE=URI;X-ADDRESS=65 Rye St\, South Windsor\,
  Connecticut\, 06074\, United States;X-APPLE-RADIUS=100;X-TITLE=65 Rye St:
 geo:41.857678,-72.595877
END:VEVENT
BEGIN:VTIMEZONE
TZID:America/Detroit
X-LIC-LOCATION:America/Detroit
BEGIN:DAYLIGHT
DTSTART:20250309T030000
TZOFFSETFROM:-0500
TZOFFSETTO:-0400
TZNAME:EDT
END:DAYLIGHT
END:VTIMEZONE
END:VCALENDAR