BEGIN:VCALENDAR
VERSION:2.0
PRODID:-//wp-events-plugin.com//7.2.3.1//EN
TZID:America/Detroit
X-WR-TIMEZONE:America/Detroit
BEGIN:VEVENT
UID:35997@arabamerica.com
DTSTART;TZID=America/Detroit:20260307T130000
DTEND;TZID=America/Detroit:20260307T143000
DTSTAMP:20260307T224321Z
URL:https://www.arabamerica.com/events/rhythms-from-the-arab-world/
SUMMARY:Rhythms From The Arab World
DESCRIPTION:Dive into vibrant beats and soulful tunes in person at Rhythms 
 From The Arab World!\nGet ready to vibe with the rich beats and captivatin
 g rhythms straight from the heart of the Arab world! This in-person event 
 is your chance to experience authentic sounds and dynamic performances tha
 t will have you tapping your feet and moving to the groove. Don’t miss o
 ut on an unforgettable night filled with culture\, music\, and good vibes!
ATTACH;FMTTYPE=image/jpeg:https://www.arabamerica.com/wp-content/uploads/2
 026/03/image-45.webp
CATEGORIES:MA,Music,Music perfomances
LOCATION:Percussion Place\, 225 Stedman Street  #Unit 7 \, Lowell\, MA\, 01
 851\, United States
GEO:42.624371;-71.35255
X-APPLE-STRUCTURED-LOCATION;VALUE=URI;X-ADDRESS=225 Stedman Street  #Unit 7
  \, Lowell\, MA\, 01851\, United States;X-APPLE-RADIUS=100;X-TITLE=Percuss
 ion Place:geo:42.624371,-71.35255
END:VEVENT
BEGIN:VTIMEZONE
TZID:America/Detroit
X-LIC-LOCATION:America/Detroit
BEGIN:STANDARD
DTSTART:20251102T010000
TZOFFSETFROM:-0400
TZOFFSETTO:-0500
TZNAME:EST
END:STANDARD
END:VTIMEZONE
END:VCALENDAR