BEGIN:VCALENDAR
VERSION:2.0
PRODID:-//wp-events-plugin.com//7.2.3.1//EN
TZID:America/Detroit
X-WR-TIMEZONE:America/Detroit
BEGIN:VEVENT
UID:31188@arabamerica.com
DTSTART;TZID=America/Detroit:20230716T120000
DTEND;TZID=America/Detroit:20230716T140000
DTSTAMP:20230604T043205Z
URL:https://www.arabamerica.com/events/ride-for-palestine-2-3/
SUMMARY:Ride for Palestine
DESCRIPTION:Berkeley\, CA\nAbout the Ride\n\nThe Ride for Palestine is an a
 nnual fundraiser to support the Middle East Children’s Alliance (MECA). 
 MECA works to protect the lives\, rights\, and well-being of children in P
 alestine and the refugee camps in Lebanon. After 75 years of ethnic cleans
 ing\, displacement\, and attacks on their lives and livelihoods\, Palestin
 ians remain steadfast on their land and fiercely committed to the cause of
  freedom. Riding is an act of solidarity with Palestinian communities as 
 they struggle to protect their children\, educate them\, and strengthen th
 eir spirits.\n\nThe Ride\n\nThe Ride for Palestine is an 11-mile scenic ro
 ute with beautiful views of the San Francisco  Bay. Bring the entire fami
 ly along for the Ride! It is designed to be enjoyable for cyclists of all 
 ages and skill levels.\n\nThe Celebration\n\nThe Ride will be followed by 
 a celebration that includes delicious food\, music\, activities for all ag
 e levels\, and so much more. Not riding\, but still want to join us for th
 e post-Ride celebration? You can purchase tickets here.\n\nJoin this year
 ’s Ride\, show your solidarity\, and transform the lives of Palestinian 
 children.\n\nRegistration Fees\n\nAdults (18+): $50\n\nYouths (10-17): $25
 \n\nChildren (under 10): Free\n\nRide from Anywhere:  $25\n\nFundraising\
 n\nThe minimum for all riders is $300.  Learn more about fundraising.
ATTACH;FMTTYPE=image/jpeg:https://www.arabamerica.com/wp-content/uploads/2
 023/06/Screen-Shot-2023-06-03-at-9.31.07-PM.png
CATEGORIES:cycling event
LOCATION:1101 Eighth St\, 1101 Eighth Street\, Berkeley\, CA\, 94710\, Unit
 ed States
GEO:37.882416;-122.299322
X-APPLE-STRUCTURED-LOCATION;VALUE=URI;X-ADDRESS=1101 Eighth Street\, Berkel
 ey\, CA\, 94710\, United States;X-APPLE-RADIUS=100;X-TITLE=1101 Eighth St:
 geo:37.882416,-122.299322
END:VEVENT
BEGIN:VTIMEZONE
TZID:America/Detroit
X-LIC-LOCATION:America/Detroit
BEGIN:DAYLIGHT
DTSTART:20230312T030000
TZOFFSETFROM:-0500
TZOFFSETTO:-0400
TZNAME:EDT
END:DAYLIGHT
END:VTIMEZONE
END:VCALENDAR