BEGIN:VCALENDAR
VERSION:2.0
PRODID:-//wp-events-plugin.com//7.2.3.1//EN
TZID:America/Detroit
X-WR-TIMEZONE:America/Detroit
BEGIN:VEVENT
UID:30624@arabamerica.com
DTSTART;TZID=America/Detroit:20230402T140000
DTEND;TZID=America/Detroit:20230402T160000
DTSTAMP:20230307T033643Z
URL:https://www.arabamerica.com/events/rideunited-x-save-the-children-in-s
 yria-turkey/
SUMMARY:RideUnited x Save the Children in Syria/Turkey
DESCRIPTION:Brooklyn\, NY\nDiscover how the collective power of the people 
 can bring forth impactful change. Join us\, Sunday\, April 2nd for RideUni
 ted’s inaugural event. We will be riding to support Save The Children’
 s Syrian/Turkey emergency relief funding!\n\nOn Feb 6th\, an earthquake hi
 t these two countries\, killing more than 40\,000 people and leaving many 
 more struggling\, including so many children. It’s easy to feel small an
 d helpless when these things are happening across the globe. However\, we 
 know that it doesn’t take much to make a difference. Every bit counts. A
 nd you never know\, perhaps one small cycling class can ignite something p
 owerful.\n\nJoin us for this fun-filled yet purposeful experience as we br
 ing our funds and our friends together to support the people affected by t
 his tragedy and also to lift each other up and spread love and light to al
 l corners of the earth!\n\nReserve your spot now! Tickets are limited.\n\n
 Date: Sunday\, April 2\, 2023\n\nTime: 2pm - 4pm\n\nHost Studio: BYKlyn
  Studios\n\nLocation: 309 Bergen St (bt 3rd Ave &amp\; 4th Ave)\, Brookly
 n\, NY 11217\n\nTicket Price: $25 per bike\n\nOF NOTE: 100% of the profit
 s from tickets sold will go to Save the Children!\n\n: The event starts at
  2pm. The ride itself will start at 2:30pm SHARP. It is a 45min class. Be 
 prepared to SWEAT and SMILE and be PROUD of yourself!\n\n: Please wear com
 fortable\, fitness attire. Bring your own water bottle! Towels &amp\; Cycl
 ing shoes will be provided unless you prefer to bring your own. The bikes 
 are SPD &amp\; LOOK/Delta clip compatible.\n\nCan’t join us in person bu
 t have access to a bike at home or at your gym? Join us at 2:30pm on IG L
 ive at @RideUnitedLLC. We’ll provide the link to donate while we pedal t
 ogether! OR donate ahead of time using the link below!\n\nCan’t join us 
 at all but still want to support? Here’s the link for our personal crow
 dfunding page for Save the Children’s Emergency relief in Turkey/Syria:\
 n\nCLICK HERE TO DONATE\n\nWe can’t wait to RIDEUnited with all of you! 
 This is only the beginning. Let’s truly be the change we wish to see in 
 the world. One Love. Peace.\n\n&nbsp\;\n\nAbout RideUnited:\n\nBorn in Bro
 oklyn. Developed in the spirit of worldly adventure and connection. RideUn
 ited is a pop-up fitness experience\, uniting fitness studios and communit
 ies for charitable causes. We believe the power of a cycling class can be 
 the catalyst for change as we tackle social issues one pedal stroke at a t
 ime! We ride for _____.\n\nFor more information about…\n\nOur non-profit
  partner click here: Save The Children\n\nOur generous host studio: BYKl
 yn Studios
ATTACH;FMTTYPE=image/jpeg:https://www.arabamerica.com/wp-content/uploads/2
 023/03/Screen-Shot-2023-03-06-at-10.29.08-PM.png
CATEGORIES:Fundraiser
LOCATION:BYKlyn Studios\, 309 Bergen Street\, Brooklyn\, NY\, 11217\, Unite
 d States
GEO:40.68354;-73.981195
X-APPLE-STRUCTURED-LOCATION;VALUE=URI;X-ADDRESS=309 Bergen Street\, Brookly
 n\, NY\, 11217\, United States;X-APPLE-RADIUS=100;X-TITLE=BYKlyn Studios:g
 eo:40.68354,-73.981195
END:VEVENT
BEGIN:VTIMEZONE
TZID:America/Detroit
X-LIC-LOCATION:America/Detroit
BEGIN:DAYLIGHT
DTSTART:20230312T030000
TZOFFSETFROM:-0500
TZOFFSETTO:-0400
TZNAME:EDT
END:DAYLIGHT
END:VTIMEZONE
END:VCALENDAR