BEGIN:VCALENDAR
VERSION:2.0
PRODID:-//wp-events-plugin.com//7.2.3.1//EN
TZID:America/Detroit
X-WR-TIMEZONE:America/Detroit
BEGIN:VEVENT
UID:33244@arabamerica.com
DTSTART;TZID=America/Detroit;VALUE=DATE:20240719
DTEND;TZID=America/Detroit;VALUE=DATE:20240720
DTSTAMP:20240722T155822Z
URL:https://www.arabamerica.com/events/rmfusa-dc-2024-gala/
SUMMARY:RMFUSA DC 2024 Gala
DESCRIPTION:WASHINGTON\, DC\n\n\n\n\n\n\n\n\nPlease Join the Rene Moawad Fo
 undation\nfor an evening of celebration and giving back as\nwe honor disti
 nguished members of the\nLebanese Diaspora\, Lebanon’s Lifeline!\n\nOUR 
 HONOREES\n\nMr. &amp\; Mrs. Mohamed (Mike) and Hania Ahmar \nDr. &amp\; Mr
 s. Elias and Mireille Ayoub\nMr. Charlie Hanna\n\nThe Evening will also fe
 ature Lebanese Musical Artist\n\nAZIZA\n\nOUR EMCEE\n\nThe Hon. Edward Gab
 riel\n\n\n\n\n\n\n\n\n\n\n\n\n\n\n\nThe Proceeds of This Year's Gala Will 
 Support RMF’s 'Medchronics Program' Providing Essential Medical Care and
  Chronic Medication To Vulnerable Population In Lebanon\n\n\n\n\n\n\n
ATTACH;FMTTYPE=image/jpeg:https://www.arabamerica.com/wp-content/uploads/2
 024/07/temp-47.jpg
LOCATION:Ritz Carolton Hotel\, 1150 22nd St NW\, Washington\, District of C
 olumbia\, 20037\, United States
GEO:38.904697;-77.049079
X-APPLE-STRUCTURED-LOCATION;VALUE=URI;X-ADDRESS=1150 22nd St NW\, Washingto
 n\, District of Columbia\, 20037\, United States;X-APPLE-RADIUS=100;X-TITL
 E=Ritz Carolton Hotel:geo:38.904697,-77.049079
END:VEVENT
BEGIN:VTIMEZONE
TZID:America/Detroit
X-LIC-LOCATION:America/Detroit
BEGIN:DAYLIGHT
DTSTART:20240310T030000
TZOFFSETFROM:-0500
TZOFFSETTO:-0400
TZNAME:EDT
END:DAYLIGHT
END:VTIMEZONE
END:VCALENDAR