BEGIN:VCALENDAR
VERSION:2.0
PRODID:-//wp-events-plugin.com//7.2.3.1//EN
TZID:America/Detroit
X-WR-TIMEZONE:America/Detroit
BEGIN:VEVENT
UID:33264@arabamerica.com
DTSTART;TZID=America/Detroit:20240725T120000
DTEND;TZID=America/Detroit:20240725T130000
DTSTAMP:20240724T220307Z
URL:https://www.arabamerica.com/events/rockland-stand-out-2/
SUMMARY:Rockland Stand-Out
DESCRIPTION:ROCKLAND\, ME\n\n 	Thursday\, July 25\, 2024\n 	12:00 PM - 1:0
 0 PM\n\n\n 	Winslow Holbrook Park301 Main St\, Rockland\, ME 04841Rockland
 \, ME\, 04841United States (map)\n
ATTACH;FMTTYPE=image/jpeg:https://www.arabamerica.com/wp-content/uploads/2
 024/07/Screenshot-2024-07-24-145844.png
LOCATION:Winslow Holbrook Park\, 301 Main St.\, Rockland\, ME\, 04841\, Uni
 ted States
GEO:44.10235;-69.108878
X-APPLE-STRUCTURED-LOCATION;VALUE=URI;X-ADDRESS=301 Main St.\, Rockland\, M
 E\, 04841\, United States;X-APPLE-RADIUS=100;X-TITLE=Winslow Holbrook Park
 :geo:44.10235,-69.108878
END:VEVENT
BEGIN:VTIMEZONE
TZID:America/Detroit
X-LIC-LOCATION:America/Detroit
BEGIN:DAYLIGHT
DTSTART:20240310T030000
TZOFFSETFROM:-0500
TZOFFSETTO:-0400
TZNAME:EDT
END:DAYLIGHT
END:VTIMEZONE
END:VCALENDAR