BEGIN:VCALENDAR
VERSION:2.0
PRODID:-//wp-events-plugin.com//7.2.3.1//EN
TZID:America/Detroit
X-WR-TIMEZONE:America/Detroit
BEGIN:VEVENT
UID:35858@arabamerica.com
DTSTART;TZID=America/Detroit:20260228T180000
DTEND;TZID=America/Detroit:20260228T200000
DTSTAMP:20260213T212617Z
URL:https://www.arabamerica.com/events/roots-ramadan/
SUMMARY:Roots & Ramadan
DESCRIPTION:This Black History Month\, come together for an iftar celebrati
 ng Black Muslim history\, culture\, and community.
ATTACH;FMTTYPE=image/jpeg:https://www.arabamerica.com/wp-content/uploads/2
 026/02/image-2-3.webp
LOCATION:Bank Alley\, Bank Alley\, Syracuse\, NY\, 13202\, United States
GEO:43.048675;-76.151495
X-APPLE-STRUCTURED-LOCATION;VALUE=URI;X-ADDRESS=Bank Alley\, Syracuse\, NY\
 , 13202\, United States;X-APPLE-RADIUS=100;X-TITLE=Bank Alley:geo:43.04867
 5,-76.151495
END:VEVENT
BEGIN:VTIMEZONE
TZID:America/Detroit
X-LIC-LOCATION:America/Detroit
BEGIN:STANDARD
DTSTART:20251102T010000
TZOFFSETFROM:-0400
TZOFFSETTO:-0500
TZNAME:EST
END:STANDARD
END:VTIMEZONE
END:VCALENDAR