BEGIN:VCALENDAR
VERSION:2.0
PRODID:-//wp-events-plugin.com//7.2.3.1//EN
TZID:America/Detroit
X-WR-TIMEZONE:America/Detroit
BEGIN:VEVENT
UID:36118@arabamerica.com
DTSTART;TZID=America/Detroit:20260427T173000
DTEND;TZID=America/Detroit:20260427T190000
DTSTAMP:20260331T220323Z
URL:https://www.arabamerica.com/events/ruins-and-other-poems-by-samer-abu-
 hawwash-translating-palestinian-poetry-in-a-time-of-genocide-3/
SUMMARY:Ruins and Other Poems by Samer Abu Hawwash: Translating Palestinian
  Poetry in a Time of Genocide
DESCRIPTION:FBH 401\n\nIn these poems\, Samer Abu Hawwash stands upon ancie
 nt and modern ruins\, engaging with the archetypal Arabic qasida and its e
 choes in the present\, set against a backdrop of exile\, displacement\, an
 d genocide.\n\nThe site of the ruin\, the journey\, and the return home ar
 e the three movements of the archetypal Arabic form with which Samer conte
 nds in his book-length poem. Writing in and from the moment of crisis\, th
 e poet keeps returning to ruins\, forfeiting the journey and the hope of r
 eturn and resolution\, rearranging the elements of poetry in the Arabic tr
 adition in search of closure or consolation—in a gesture\, a shadow\, a 
 memory\, an object. The five poems that follow “Ruins” in this book ro
 ot themselves in monumental loss. When “it no longer matters if anyone l
 oves us” and “we will lose this war\,” nothing remains but the poem\
 , the witness\, the signpost in the wasteland of history.
ATTACH;FMTTYPE=image/jpeg:https://www.arabamerica.com/wp-content/uploads/2
 026/03/ruins-and-other-poems-1.png
CATEGORIES:Arab American,Community,Discussion
LOCATION:Fisher - Bennett Hall\, 3340 Walnut Street \, Philadelphia\, PA\, 
 United States
GEO:39.9525148;-75.19172609999998
X-APPLE-STRUCTURED-LOCATION;VALUE=URI;X-ADDRESS=3340 Walnut Street \, Phila
 delphia\, PA\, United States;X-APPLE-RADIUS=100;X-TITLE=Fisher - Bennett H
 all:geo:39.9525148,-75.19172609999998
END:VEVENT
BEGIN:VTIMEZONE
TZID:America/Detroit
X-LIC-LOCATION:America/Detroit
BEGIN:DAYLIGHT
DTSTART:20260308T030000
TZOFFSETFROM:-0500
TZOFFSETTO:-0400
TZNAME:EDT
END:DAYLIGHT
END:VTIMEZONE
END:VCALENDAR