BEGIN:VCALENDAR
VERSION:2.0
PRODID:-//wp-events-plugin.com//7.2.3.1//EN
TZID:America/Detroit
X-WR-TIMEZONE:America/Detroit
BEGIN:VEVENT
UID:32097@arabamerica.com
DTSTART;TZID=America/Detroit:20241028T090000
DTEND;TZID=America/Detroit:20241028T090000
DTSTAMP:20240122T154807Z
URL:https://www.arabamerica.com/events/run-for-palestine-memphis-tennessee
 /
SUMMARY:Run For Palestine Memphis\, Tennessee
DESCRIPTION:&nbsp\;\n\n[caption id="attachment_243869" align="alignnone" wi
 dth="300"] Run For Palestine logo[/caption]\n\nMEMPHIS\, TENNESSEE\n\nOn y
 our mark\, get set\, before you "go"\, let us tell you a little about wher
 e exactly you are headed. This 5K is unlike any other one you have attende
 d\, or heard about. Some people run to improve their health\, and others r
 un to improve their endurance\, but Reach Education Fund is inviting you t
 o run in order to improve the world around you.\n\nAll of us in some form 
 or another are looking to make an impact. It's a part of our deeper human 
 intuition. When you run for Palestine\, it doesn't matter which walk of li
 fe you are coming from because in the end- all of our paths are merging to
  pave a brighter future for the increasingly alarming number of war strick
 en Palestinian children and youth.\n\nOur Mission\n\nTo reach\, educate\, 
 and inspire Palestinian students by aiding in their educational\, personal
 \, and professional development through scholarship and mentorship.\n\nOur
  Vision\n\nFrom the time we are small we dream of a full life. We envision
  that we can achieve the impossible and many of us are fortunate enough to
  follow those dreams through the support of our parents and through the ed
 ucation that is freely given to us here in the United State. Palestinian s
 tudents were deprived of pursuing their academic dreams due to political u
 nrest and financial difficulties\, yet\, the ones whom were given a chance
  excelled. It’s every individual’s dream to grow up in a world less tu
 multuous\, where they are able to go to school and become who they want to
  be. Reach Education Fund serves as a bridge for hope\, success\, and peac
 e.
ATTACH;FMTTYPE=image/jpeg:https://www.arabamerica.com/wp-content/uploads/2
 024/01/Run-For-Palestine-Reach-For-Education-1-1.png
END:VEVENT
BEGIN:VTIMEZONE
TZID:America/Detroit
X-LIC-LOCATION:America/Detroit
BEGIN:DAYLIGHT
DTSTART:20240310T030000
TZOFFSETFROM:-0500
TZOFFSETTO:-0400
TZNAME:EDT
END:DAYLIGHT
END:VTIMEZONE
END:VCALENDAR