BEGIN:VCALENDAR
VERSION:2.0
PRODID:-//wp-events-plugin.com//7.2.3.1//EN
TZID:America/Detroit
X-WR-TIMEZONE:America/Detroit
BEGIN:VEVENT
UID:30576@arabamerica.com
DTSTART;TZID=America/Detroit:20230722T000000
DTEND;TZID=America/Detroit:20230722T000000
DTSTAMP:20230228T033228Z
URL:https://www.arabamerica.com/events/run-for-palestine-reach-for-educati
 on-boston/
SUMMARY:Run for Palestine Reach for Education Boston
DESCRIPTION:This race is to reach\, educate\, and inspire Palestinian stude
 nts by aiding in their educational\, personal\, and professional developme
 nt through scholarship and mentorship.\n\nWe are not just running for a be
 tter Palestine\, we are running for a better world. By educating Palestini
 an youth\, we are unlocking a new vessel of hope and advancement for all o
 f mankind.\n\nOur purpose is to inspire people from all religions\, races\
 , and backgrounds to join forces and run for one common cause: peace. To c
 hange the world\, the impact must always start locally.\n\nWe invite you t
 o join us and your community to run for Palestine\, and reach for educatio
 n.
ATTACH;FMTTYPE=image/jpeg:https://www.arabamerica.com/wp-content/uploads/2
 023/02/boston.jpeg
CATEGORIES:Palestinian
END:VEVENT
BEGIN:VTIMEZONE
TZID:America/Detroit
X-LIC-LOCATION:America/Detroit
BEGIN:DAYLIGHT
DTSTART:20230312T030000
TZOFFSETFROM:-0500
TZOFFSETTO:-0400
TZNAME:EDT
END:DAYLIGHT
END:VTIMEZONE
END:VCALENDAR