BEGIN:VCALENDAR
VERSION:2.0
PRODID:-//wp-events-plugin.com//7.2.3.1//EN
TZID:America/Detroit
X-WR-TIMEZONE:America/Detroit
BEGIN:VEVENT
UID:30583@arabamerica.com
DTSTART;TZID=America/Detroit:20230909T000000
DTEND;TZID=America/Detroit:20230909T000000
DTSTAMP:20230228T220443Z
URL:https://www.arabamerica.com/events/run-for-palestine-reach-for-educati
 on-columbus-oh-3/
SUMMARY:Run for Palestine Reach for Education Columbus\, OH
DESCRIPTION:COLUMBUS\, OH\n\nPlease join us for the first Annual Run for Pa
 lestine - Reach for Education 5K. Over 20 cities worldwide will run simult
 aneously\, with Columbus\, Ohio being one of them! ALL proceeds will go to
  Reach Education Fund (REF)\, a US non-profit organization established to 
 help Palestinians achieve their academic dreams. Last year\, REF was able 
 to successfully fund 100% of the education expenses of 100 Palestinian stu
 dents in the West Bank and Gaza Strip. Help REF fund the education of more
  Palestinians this year by registering NOW!\n\nWe invite you to join us to
  run for Palestine\, and reach for education. Together\, we can unlock a n
 ew vessel of hope and advancement for Palestinian youth.\n\nFor more info 
 about Reach Education Fund\, please visit their website at https://reached
 ucationfund.com/
ATTACH;FMTTYPE=image/jpeg:https://www.arabamerica.com/wp-content/uploads/2
 023/02/Screenshot-2023-02-28-at-4.59.55-PM.png
CATEGORIES:Advocacy,Community
END:VEVENT
BEGIN:VTIMEZONE
TZID:America/Detroit
X-LIC-LOCATION:America/Detroit
BEGIN:DAYLIGHT
DTSTART:20230312T030000
TZOFFSETFROM:-0500
TZOFFSETTO:-0400
TZNAME:EDT
END:DAYLIGHT
END:VTIMEZONE
END:VCALENDAR