BEGIN:VCALENDAR
VERSION:2.0
PRODID:-//wp-events-plugin.com//7.2.3.1//EN
TZID:America/Detroit
X-WR-TIMEZONE:America/Detroit
BEGIN:VEVENT
UID:30573@arabamerica.com
DTSTART;TZID=America/Detroit:20230722T000000
DTEND;TZID=America/Detroit:20230722T000000
DTSTAMP:20230228T022046Z
URL:https://www.arabamerica.com/events/run-for-palestine-reach-for-educati
 on-washington-dc-2/
SUMMARY:Run for Palestine Reach for Education Washington\, DC
DESCRIPTION:This race is to reach\, educate\, and inspire Palestinian stude
 nts by aiding in their educational\, personal\, and professional developme
 nt through scholarship and mentorship.\n\n \n\nWe are not just running fo
 r a better Palestine\, we are running for a better world. By educating Pal
 estinian youth\, we are unlocking a new vessel of hope and advancement for
  all of mankind.\n\nOur purpose is to inspire people from all religions\, 
 races\, and backgrounds to join forces and run for one common cause: peace
 . To change the world\, the impact must always start locally.\n\n&nbsp\;
ATTACH;FMTTYPE=image/jpeg:https://www.arabamerica.com/wp-content/uploads/2
 023/02/pale.jpeg
CATEGORIES:Palestine,Palestinian
LOCATION:Washington DC\, TBD\, TBD\, United States
GEO:2.7763832;-77.66719469999998
X-APPLE-STRUCTURED-LOCATION;VALUE=URI;X-ADDRESS=TBD\, TBD\, United States;X
 -APPLE-RADIUS=100;X-TITLE=Washington DC:geo:2.7763832,-77.66719469999998
END:VEVENT
BEGIN:VTIMEZONE
TZID:America/Detroit
X-LIC-LOCATION:America/Detroit
BEGIN:DAYLIGHT
DTSTART:20230312T030000
TZOFFSETFROM:-0500
TZOFFSETTO:-0400
TZNAME:EDT
END:DAYLIGHT
END:VTIMEZONE
END:VCALENDAR