BEGIN:VCALENDAR
VERSION:2.0
PRODID:-//wp-events-plugin.com//7.2.3.1//EN
TZID:America/Detroit
X-WR-TIMEZONE:America/Detroit
BEGIN:VEVENT
UID:36233@arabamerica.com
DTSTART;TZID=America/Detroit:20260425T190000
DTEND;TZID=America/Detroit:20260425T210000
DTSTAMP:20260422T014910Z
URL:https://www.arabamerica.com/events/saami-brothers-qawwali-concert/
SUMMARY:Saami Brothers: Qawwali Concert
DESCRIPTION:CHICAGO\, IL\n\n\n\nThe Saami Brothers return to Chicago for a 
 revitalizing evening of qawwali performance.\n\n\n\n\n\nAbout the Saami Br
 others\nThe Saami Brothers come from a lineage of musicians — the Qawwa
 l Bacchon Ka Gharana\, or Dilli Gharana — spanning over 800 years. The
 y are the sons and disciples of the critically acclaimed maestro Ustad Nas
 eeruddin Saami\, and are considered contemporary custodians of the centuri
 es-old Qawwal Bachchon ka Gharana. Alongside highly-skilled qawwali perfo
 rmance\, the Saami Brothers are renowned for their skill in the khayal gen
 re\, alongside its preservation and performance of the rare and demanding 
 Surti scale\, a hallmark of their family tradition.\nQawwali Music\nA cent
 uries old musical tradition\, qawwali is devotional music with roots in 
 Sufism in South Asia\, particularly Pakistan\, India\, and Afghanistan. Th
 e word qawwali originates from the Arabic qaul (“to speak” or “t
 o say”). Expanding beyond its origins\, qawwali may also be enjoyed as
  a secular practice.\n\n\n
ATTACH;FMTTYPE=image/jpeg:https://www.arabamerica.com/wp-content/uploads/2
 026/04/image-8.webp
LOCATION:South Asia Institute\, 1925 South Michigan Avenue\, Chicago\, IL\,
  60616\, United States
GEO:41.855864;-87.623459
X-APPLE-STRUCTURED-LOCATION;VALUE=URI;X-ADDRESS=1925 South Michigan Avenue\
 , Chicago\, IL\, 60616\, United States;X-APPLE-RADIUS=100;X-TITLE=South As
 ia Institute:geo:41.855864,-87.623459
END:VEVENT
BEGIN:VTIMEZONE
TZID:America/Detroit
X-LIC-LOCATION:America/Detroit
BEGIN:DAYLIGHT
DTSTART:20260308T030000
TZOFFSETFROM:-0500
TZOFFSETTO:-0400
TZNAME:EDT
END:DAYLIGHT
END:VTIMEZONE
END:VCALENDAR