BEGIN:VCALENDAR
VERSION:2.0
PRODID:-//wp-events-plugin.com//7.2.3.1//EN
TZID:America/Detroit
X-WR-TIMEZONE:America/Detroit
BEGIN:VEVENT
UID:31242@arabamerica.com
DTSTART;TZID=America/Detroit:20230618T120000
DTEND;TZID=America/Detroit:20230618T200000
DTSTAMP:20230612T170054Z
URL:https://www.arabamerica.com/events/sacramento-eid-ul-adha-clothing-jew
 elry-bazaar/
SUMMARY:Sacramento Eid-Ul-Adha Clothing/Jewelry Bazaar
DESCRIPTION:Hello Sacramento and surrounding Area Mark your calendars and g
 et ready for another best EXPO in your town.\n15+Top notch vendors from Lo
 s Angeles &amp\; Bay Area will be participating with their new collection 
 for Eid-Ul-Adha .Your one stop shop for all your needs?\n\nBringing you th
 e latest collection in Clothing &amp\; Jewelry with affordable prices.\n\n
 Casual | Formal | Semi-Formal | Bridal Wear | Jewelry| &amp\; much more!!!
 \n\nAn Event not to be missed!
ATTACH;FMTTYPE=image/jpeg:https://www.arabamerica.com/wp-content/uploads/2
 023/06/1ed359bb02e4a683c19f2979f28f261313bbc0141ca3953723cd99c87f09906b-ri
 mg-w960-h540-gmir.jpeg
CATEGORIES:bazaar,Clothing,Eid Al-Adha,Jewelry
LOCATION:Hilton Sacramento Arden West\, 2200 Harvard St Sacramento\, CA 958
 15\, Sacramento\, CA\, 95815\, United States
GEO:38.606727;-121.433431
X-APPLE-STRUCTURED-LOCATION;VALUE=URI;X-ADDRESS=2200 Harvard St Sacramento\
 , CA 95815\, Sacramento\, CA\, 95815\, United States;X-APPLE-RADIUS=100;X-
 TITLE=Hilton Sacramento Arden West:geo:38.606727,-121.433431
END:VEVENT
BEGIN:VTIMEZONE
TZID:America/Detroit
X-LIC-LOCATION:America/Detroit
BEGIN:DAYLIGHT
DTSTART:20230312T030000
TZOFFSETFROM:-0500
TZOFFSETTO:-0400
TZNAME:EDT
END:DAYLIGHT
END:VTIMEZONE
END:VCALENDAR