BEGIN:VCALENDAR
VERSION:2.0
PRODID:-//wp-events-plugin.com//7.2.3.1//EN
TZID:America/Detroit
X-WR-TIMEZONE:America/Detroit
BEGIN:VEVENT
UID:35626@arabamerica.com
DTSTART:20260117T013000Z
DTEND:20260117T033000Z
DTSTAMP:20251224T043725Z
URL:https://www.arabamerica.com/events/sacred-echoes-healing-hearts-in-gaz
 a-and-sudan-colorado/
SUMMARY:Sacred Echoes: Healing Hearts In Gaza and Sudan — Colorado
DESCRIPTION:\n\nAURORA\, CO\nOverview\n\n\n\n\n\nJoin us for a special even
 ing dedicated to supporting the people of Gaza &amp\; Sudan\n\n\n\n\nJoin 
 us for a special evening dedicated to supporting the people of Gaza &amp\;
  Sudan and reflecting on their extraordinary resilience as a source of fai
 th and inspiration. As the situation in Gaza &amp\; Sudan remains critical
 \, we come together to offer much-needed relief and hope. The evening will
  feature exclusive vocals-only performances and\, speakers who will inspir
 e hope\, and foster a sense of unity among our commuity.\n\nArtists/Speake
 rs:\n\n 	Ustadh Abdelrahman Murphy\n 	Mohamed Tarek\n\nEvent Highlights:\n
 \nLive Nasheeds\, and updates on the humanitarian crisis in Gaza &amp\; Su
 dan.\n\nOpportunities to contribute directly to relief efforts. A chance t
 o connect with like-minded individuals who are passionate about making a d
 ifference.\n\nTickets:\n\n$20 per person | $75 family of 5 ($15 per additi
 onal)\n\nAll proceeds raised will go directly to supporting humanitarian e
 fforts in Gaza &amp\; Sudan.\n\nContact Information: For more information
 \, please contact us at:Phone: 1-800-614-9560Email: info@hdfund.org\n\nDon
 ate: gaza.hdfund.org\n\nFollow us on social media: @humandevelopmentfund\
 n\nHuman Development Fund (HDF)Human Development Fund is a 501(c)(3) globa
 l humanitarian and aid organization - Tax ID: 92-220-4466.\n\n\n\n\n\n\n\n
 \n\n\n\n\n
ATTACH;FMTTYPE=image/jpeg:https://www.arabamerica.com/wp-content/uploads/2
 025/12/4e9a422746a299c3993907c52695e5d113bc18e3ad3738f03a7f4157e4daa041-ri
 mg-w1200-h600-dc140905-gmir.webp
CATEGORIES:#arabic
LOCATION:DoubleTree by Hilton Hotel Denver - Aurora\, 13696 East Iliff Plac
 e\, Aurora\, 80014\, United States
GEO:39.673036;-104.830654
X-APPLE-STRUCTURED-LOCATION;VALUE=URI;X-ADDRESS=13696 East Iliff Place\, Au
 rora\, 80014\, United States;X-APPLE-RADIUS=100;X-TITLE=DoubleTree by Hilt
 on Hotel Denver - Aurora:geo:39.673036,-104.830654
END:VEVENT
END:VCALENDAR