BEGIN:VCALENDAR
VERSION:2.0
PRODID:-//wp-events-plugin.com//7.2.3.1//EN
TZID:America/Detroit
X-WR-TIMEZONE:America/Detroit
BEGIN:VEVENT
UID:31010@arabamerica.com
DTSTART;TZID=America/Detroit:20231029T190000
DTEND;TZID=America/Detroit:20231029T220000
DTSTAMP:20230510T174105Z
URL:https://www.arabamerica.com/events/saint-levant-fromgazawithlovetour-a
 t-thalia-hall/
SUMMARY:Saint Levant: #FromGazaWithLoveTour (at Thalia HALL)
DESCRIPTION:West Chicago\, IL\nSAINT LEVANT (born Marwan Abdelhamid) is a 
 Palestinian/French/Algerian/Serbian artist. Born in Jerusalem\, and raised
  in Gaza\, Saint Levant fuses English\, French\, and Arabic to bring a tru
 ly unique take on modern pop music. Effortless and seductive trilingual wo
 rdplay has established him as a breakout global heartthrob. Inspired by in
 fluential Arab thinkers from generations past and contemporary artists ali
 ke\, Saint Levant’s music is nostalgic towards early 2000s R&amp\;B/hip-
 hop\, yet intensely forward-thinking\, surpassing the limits of genre. Wit
 h his complex worldview\, Saint Levant recently launched the 2048 Fellowsh
 ip\, providing yearly living expenses for young Palestinian creatives\, as
  well as his 2048 label imprint\, allowing him to remain an independent ar
 tist. The hit song ‘Very Few Friends’ has garnered impossible-to-ignor
 e international attention\, with a steady release of new music in anticipa
 tion of his debut solo EP\, From Gaza\, With Love\, dropping March 6th\, 2
 023.
ATTACH;FMTTYPE=image/jpeg:https://www.arabamerica.com/wp-content/uploads/2
 023/05/Screen-Shot-2023-05-10-at-1.39.54-PM.png
CATEGORIES:culture,Music/Folk/World
LOCATION:The Promontory\, 5311 South Lake Park Avenue\, West Chicago\, IL\,
  60615\, United States
GEO:41.799005;-87.587608
X-APPLE-STRUCTURED-LOCATION;VALUE=URI;X-ADDRESS=5311 South Lake Park Avenue
 \, West Chicago\, IL\, 60615\, United States;X-APPLE-RADIUS=100;X-TITLE=Th
 e Promontory:geo:41.799005,-87.587608
END:VEVENT
BEGIN:VTIMEZONE
TZID:America/Detroit
X-LIC-LOCATION:America/Detroit
BEGIN:DAYLIGHT
DTSTART:20230312T030000
TZOFFSETFROM:-0500
TZOFFSETTO:-0400
TZNAME:EDT
END:DAYLIGHT
END:VTIMEZONE
END:VCALENDAR