BEGIN:VCALENDAR
VERSION:2.0
PRODID:-//wp-events-plugin.com//7.2.3.1//EN
TZID:America/Detroit
X-WR-TIMEZONE:America/Detroit
BEGIN:VEVENT
UID:35565@arabamerica.com
DTSTART;TZID=America/Detroit:20260306T200000
DTEND;TZID=America/Detroit:20260307T040000
DTSTAMP:20251216T160552Z
URL:https://www.arabamerica.com/events/salaamfest-chicago-indoor-2nd-annua
 l-suhoor-night-free-entry/
SUMMARY:SalaamFest: Chicago Indoor 2nd Annual Suhoor Night - FREE ENTRY
DESCRIPTION:\nNAPERVILLE\, IL\n\nFREE ENTRY SUHOOR NIGHT MARCH 06\n\n\n\n\n
 SalaamFest: Chicago Indoor Suhoor Night - FREE ENTRY\n\nChicago 2nd Annual
  Suhoor Fest\nMARCH 06\n\nat the\n\n808 S Route 59\, Naperville\, IL 60540
 \n\nWelcome to Salaam Fest! We're excited to invite you to join us for an 
 unforgettable night filled with celebration\, delicious food\, desserts\, 
 and your favorite clothing brands. This special event will not only highli
 ght the rich cultural traditions of Ramadan\, but also emphasize the impor
 tance of Suhoor\, the pre-dawn meal that sustains us through the day. As w
 e come together in gratitude and community\, we'll celebrate the spirit of
  Ramadan\, fostering unity and connection. We can't wait to have you with 
 us for this meaningful experience!\n\nCALLING ALL VENDORS!\n\n———-\n
 chicago bazaar\, chicago fest\, salaamfest\, chicago business\, chicago sh
 opping\, suhoor night\, chicago suhoor fest\n\nregister here\n\n\n
ATTACH;FMTTYPE=image/jpeg:https://www.arabamerica.com/wp-content/uploads/2
 025/12/Screenshot-2025-12-16-at-11.09.44-AM.png
LOCATION:The Matrix Club\, 808 S Route 59\, Naperville\, IL\, 60540\, Unite
 d States
GEO:41.757119;-88.202264
X-APPLE-STRUCTURED-LOCATION;VALUE=URI;X-ADDRESS=808 S Route 59\, Naperville
 \, IL\, 60540\, United States;X-APPLE-RADIUS=100;X-TITLE=The Matrix Club:g
 eo:41.757119,-88.202264
END:VEVENT
BEGIN:VTIMEZONE
TZID:America/Detroit
X-LIC-LOCATION:America/Detroit
BEGIN:STANDARD
DTSTART:20251102T010000
TZOFFSETFROM:-0400
TZOFFSETTO:-0500
TZNAME:EST
END:STANDARD
END:VTIMEZONE
END:VCALENDAR