BEGIN:VCALENDAR
VERSION:2.0
PRODID:-//wp-events-plugin.com//7.2.3.1//EN
TZID:America/Detroit
X-WR-TIMEZONE:America/Detroit
BEGIN:VEVENT
UID:31606@arabamerica.com
DTSTART;TZID=America/Detroit:20230827T180000
DTEND;TZID=America/Detroit:20230827T220000
DTSTAMP:20230822T000027Z
URL:https://www.arabamerica.com/events/salon-kawakib-presents-haflitna-2/
SUMMARY:Salon Kawakib presents: HAFLITNA
DESCRIPTION:Salam\, hotties! Our second hafla is finally here! Come hizz ya
  whizz (shake your &#x1f351\;) with us at Dorothy on Sunday\, August 27th 
 from 6pm to 10pm! &#x2728\;&#xfe0f\;\n\n&#x1f440\; Check our line-up!\n\nD
 J Nanoos (6pm-8pm) and DJ NAXÖ (8pm-10pm) will be spinning SWANA hits 
 all evening long!\n\nTickets are sliding scale $15 - $25. Make sure to ge
 t yours NOW as we can't guarantee tix at the door.\n\nDorothy is 21+ and
  requires physical ID for all to enter. Dorothy is also ADA accessible w
 ith elevator access on Campbell Avenue. If you are a guest who requires el
 evator access\, please stop by Split-Rail to ask to be let down or ask our
  security person at the Dorothy door.
ATTACH;FMTTYPE=image/jpeg:https://www.arabamerica.com/wp-content/uploads/2
 023/08/Screen-Shot-2023-08-21-at-7.56.59-PM.png
CATEGORIES:#arabic,Arab DJ,Chicago,Danceparty,Hafla
LOCATION:Dorothy 2500 West Chicago Avenue Chicago\, Dorothy 2500 West Chica
 go Avenue Chicago\, IL 60622\, Chicago\, IL\, United States
GEO:41.895931;-87.689529
X-APPLE-STRUCTURED-LOCATION;VALUE=URI;X-ADDRESS=Dorothy 2500 West Chicago A
 venue Chicago\, IL 60622\, Chicago\, IL\, United States;X-APPLE-RADIUS=100
 ;X-TITLE=Dorothy 2500 West Chicago Avenue Chicago:geo:41.895931,-87.689529
END:VEVENT
BEGIN:VTIMEZONE
TZID:America/Detroit
X-LIC-LOCATION:America/Detroit
BEGIN:DAYLIGHT
DTSTART:20230312T030000
TZOFFSETFROM:-0500
TZOFFSETTO:-0400
TZNAME:EDT
END:DAYLIGHT
END:VTIMEZONE
END:VCALENDAR