BEGIN:VCALENDAR
VERSION:2.0
PRODID:-//wp-events-plugin.com//7.2.3.1//EN
TZID:America/Detroit
X-WR-TIMEZONE:America/Detroit
BEGIN:VEVENT
UID:32922@arabamerica.com
DTSTART;TZID=America/Detroit:20240530T200000
DTEND;TZID=America/Detroit:20240530T200000
DTSTAMP:20240529T165520Z
URL:https://www.arabamerica.com/events/salsa-bachata-in-support-of-palesti
 ne/
SUMMARY:Salsa Bachata Night in Support of Palestine
DESCRIPTION:Do you feel like you don't know the full story about the Palest
 ine-Israel conflict? Do you see images and reports that trouble you but ar
 e afraid to speak up because some quickly start accusing "Antisemitism!?'
   We invite you to join us and to learn more.\n\nWHATA night of Salsa Bac
 hata dancing in support of the Palestinian struggle and genocide.We host a
  popular dancing night every Thursday and on this night all of the cover p
 roceeds and donation bucket will go toward the choosing of our Palestinian
  friends. Multiple charities and organizations have already been mentioned
  to me.YES\, Asdruval (Dj Astro) the promoter IS NOT TAKING ONE PENNY from
  this event. WE hope to raise thousands of dollars.\n\nWHYTo bring attenti
 on to the horrible suffering and land theft of the Palestinians at the han
 ds of the right-wing Zionist run Israeli government. To inform the public 
 and dispel the overwhelming disinformation campaign run by the Israeli gov
 ernment and conservative right wing in America.\n\nWHEN/WHEREThursday May 
 30th\, The Golden Rose Buena Park Ca.7115 Beach Blvd Buena Park 90620$12 c
 over (all proceeds donated) includes dance classes8PM Bachata classes8:45P
 M Salsa classes9:30PM Dancing till 1:30am\n\nWHOMy name is Asdruval (DJ As
 tro)We've hosted dancing for 18 years with a strong following. This night 
 is a personal cause for me\, I have sympathized with the Palestinian strug
 gle for many years now. You can search in my Facebook profile "Palestine" 
 and you will see where I have stood for many years.\n\nNOTABLE ORGANIZATIO
 NS AND GROUPS WE WILL INVITE TO JOINThe Palestine Children's Relief FundAl
 -Awda Palestinian Right To Return CoalitionJVP Jewish Voice For PeaceUNRWA
  United Nations Relief and Works Agency for Palestine refugees in the near
  eastPYM Palestinian Youth Movementand more.\n\n
ATTACH;FMTTYPE=image/jpeg:https://www.arabamerica.com/wp-content/uploads/2
 024/05/unnamed-1-1.jpg
LOCATION:Golden Rose Restaurant & Lounge\, 7115 Beach Boulevard\, Buena Par
 k\, CA\, 9062065\, United States
GEO:33.857397;-117.998617
X-APPLE-STRUCTURED-LOCATION;VALUE=URI;X-ADDRESS=7115 Beach Boulevard\, Buen
 a Park\, CA\, 9062065\, United States;X-APPLE-RADIUS=100;X-TITLE=Golden Ro
 se Restaurant & Lounge:geo:33.857397,-117.998617
END:VEVENT
BEGIN:VTIMEZONE
TZID:America/Detroit
X-LIC-LOCATION:America/Detroit
BEGIN:DAYLIGHT
DTSTART:20240310T030000
TZOFFSETFROM:-0500
TZOFFSETTO:-0400
TZNAME:EDT
END:DAYLIGHT
END:VTIMEZONE
END:VCALENDAR