BEGIN:VCALENDAR
VERSION:2.0
PRODID:-//wp-events-plugin.com//7.2.3.1//EN
TZID:America/Detroit
X-WR-TIMEZONE:America/Detroit
BEGIN:VEVENT
UID:35478@arabamerica.com
DTSTART;TZID=America/Detroit:20251128T190000
DTEND;TZID=America/Detroit:20251128T190000
DTSTAMP:20251125T223925Z
URL:https://www.arabamerica.com/events/sammy-obeid-ahmed-al-kadri-take-hou
 ston-2/
SUMMARY:Sammy Obeid & Ahmed Al-Kadri Take Houston
DESCRIPTION:HOUSTON\, TX\n\nComedians Sammy Obeid and Ahmed Al-Kadri light 
 up Houston for ONE NIGHT ONLY! Catch them LIVE at the Community Cultivatio
 n Network\, 7:00pm.\n\n\n\n\nComedian Sammy Obeid and Ahmed Al-Kadri are c
 oming DOWN to H-TOWN!\n\nHome after selling-out shows world-wide\, comedia
 n Sammy Obeid AND Ahmed Al-Kadri bring a night of nerdy and silly comedy t
 o Houston! Known for their unique blend of cultural observations\, persona
 l stories\, and razor-sharp wit\, this show is guaranteed laughs.\n\nSet i
 nside the Community Cultivation Network\, you’ll experience stand-up com
 edy in a space full of connection. Bring your Texas Trill &#x2728\; and en
 joy a night where humor and good vibes take center stage.\n\nA bar and con
 cessions will be available.\n\nDoors 6:30pm | Show 7:00pm\n\nLebanese-Pale
 stinian American\, born in Oakland California\, Sammy Obeid double majored
  in Business and Mathematics at UC Berkeley and then turned down a job at 
 Google to be a comedian. Now the host of 100 Humans on Netflix\, he’s al
 so appeared on NBC's Last Comic Standing and America's Got Talent\, as wel
 l as TBS’s Conan\, and is best known for his world record of performing 
 comedy 1\,001 nights in a row\, a story featured in both Time Magazine and
  The New York Times.\n\nAhmed Al-Kadri is a Yemeni-American comedian based
  in Los Angeles whose stand-up blends his cultural upbringing\, everyday a
 bsurdities\, and straight-up goofy fun. His relatable and high-energy styl
 e has taken him around the world—from America to Asia and everywhere in 
 between. You may have seen him on the series David Diamondhands\, OFTV\, o
 r in his YouTube comedy special Special Not Special.\n\nGet Tickets Here\n
 \n\n
ATTACH;FMTTYPE=image/jpeg:https://www.arabamerica.com/wp-content/uploads/2
 025/11/Screenshot-2025-11-25-at-5.38.12-PM.png
LOCATION:Community Cultivation Network\, 5510 Lawndale Street\, Houston\, T
 X\, 77023\, United States
GEO:29.726778;-95.319009
X-APPLE-STRUCTURED-LOCATION;VALUE=URI;X-ADDRESS=5510 Lawndale Street\, Hous
 ton\, TX\, 77023\, United States;X-APPLE-RADIUS=100;X-TITLE=Community Cult
 ivation Network:geo:29.726778,-95.319009
END:VEVENT
BEGIN:VTIMEZONE
TZID:America/Detroit
X-LIC-LOCATION:America/Detroit
BEGIN:STANDARD
DTSTART:20251102T010000
TZOFFSETFROM:-0400
TZOFFSETTO:-0500
TZNAME:EST
END:STANDARD
END:VTIMEZONE
END:VCALENDAR