BEGIN:VCALENDAR
VERSION:2.0
PRODID:-//wp-events-plugin.com//7.2.3.1//EN
TZID:America/Detroit
X-WR-TIMEZONE:America/Detroit
BEGIN:VEVENT
UID:34065@arabamerica.com
DTSTART;TZID=America/Detroit:20250311T193000
DTEND;TZID=America/Detroit:20250311T213000
DTSTAMP:20250217T210627Z
URL:https://www.arabamerica.com/events/sammy-obeid-aloha-live-in-honolulu/
SUMMARY:Sammy Obeid: Aloha LIVE in Honolulu!
DESCRIPTION:\n\n\n 	UNDER 18 WITH PARENT OR LEGAL GUARDIAN\n\n\n\n\n\n\n\nC
 omedian Sammy Obeid (Netflix\, Conan) performs LIVE in Honolulu on March 1
 1 at HB Social Club\, 7:30pm!\n\n\n\n\n\n\n\n\n\n\n\n\n\n\n
ATTACH;FMTTYPE=image/jpeg:https://www.arabamerica.com/wp-content/uploads/2
 025/02/Screenshot-2025-02-17-at-3.11.15 PM.png
CATEGORIES:Arab American,Community,culture,Music/Folk/World
LOCATION:HB Social Club | Hawaiian Brian's\, 1680 Kapiolani Boulevard\, Hon
 olulu\, Hawaii\, 96814\, United States
GEO:21.291561;-157.838256
X-APPLE-STRUCTURED-LOCATION;VALUE=URI;X-ADDRESS=1680 Kapiolani Boulevard\, 
 Honolulu\, Hawaii\, 96814\, United States;X-APPLE-RADIUS=100;X-TITLE=HB So
 cial Club | Hawaiian Brian's:geo:21.291561,-157.838256
END:VEVENT
BEGIN:VTIMEZONE
TZID:America/Detroit
X-LIC-LOCATION:America/Detroit
BEGIN:DAYLIGHT
DTSTART:20250309T030000
TZOFFSETFROM:-0500
TZOFFSETTO:-0400
TZNAME:EDT
END:DAYLIGHT
END:VTIMEZONE
END:VCALENDAR