BEGIN:VCALENDAR
VERSION:2.0
PRODID:-//wp-events-plugin.com//7.2.3.1//EN
TZID:America/Detroit
X-WR-TIMEZONE:America/Detroit
BEGIN:VEVENT
UID:34471@arabamerica.com
DTSTART;TZID=America/Detroit:20250613T203000
DTEND;TZID=America/Detroit:20250613T220000
DTSTAMP:20250527T230044Z
URL:https://www.arabamerica.com/events/sammy-obeid-anchored-in-portland/
SUMMARY:Sammy Obeid: Anchored in Portland!
DESCRIPTION:PORTLAND\, ME\n\n&nbsp\;\n\nComedian Sammy Obeid (Netflix\, Con
 an) performs Anchored in Portland! ONE night only! Friday\, June 13\, at T
 he Hill Arts\, 8:30pm.\n\nGet ready for an unforgettable evening as &#x1f3
 a4\; Sammy Obeid takes the stage with his one-of-a-kind energy and razor-s
 harp wit! His unique take on life\, math\, and everything in between is co
 medy like you’ve never heard before &#x1f92f\;&#x1f923\;.\n\nSet against
  the backdrop of the beautiful waterfront this show brings the laughs with
  a side of ocean breeze &#x1f32c\;&#xfe0f\;. Run for the hill (Munjoy Hill
 ) for this one-of-a-kind comedy night! All ages are welcome &#x2728\;\n\nD
 oors 8:00 pm | Show 8:30 pm\n\nLebanese-Palestinian American\, born in Oak
 land California\, Sammy Obeid double majored in Business and Mathematics a
 t UC Berkeley and then turned down a job at Google to be a comedian. Now t
 he host of 100 Humans on Netflix\, he’s also appeared on NBC's Last Comi
 c Standing and America's Got Talent\,as well as TBS’s Conan\, and is bes
 t known for his world record of performing comedy 1\,001 nights in a row\,
  a story featured in both Time Magazine and The New York Times.\n\nGet Tic
 kets Here\n\n&nbsp\;
ATTACH;FMTTYPE=image/jpeg:https://www.arabamerica.com/wp-content/uploads/2
 025/05/Screenshot-2025-05-27-at-6.47.39-PM-1.png
LOCATION:The Hill Arts\, 76 Congress Street\, Portland\, ME\, 04101\, Unite
 d States
GEO:43.667209;-70.245977
X-APPLE-STRUCTURED-LOCATION;VALUE=URI;X-ADDRESS=76 Congress Street\, Portla
 nd\, ME\, 04101\, United States;X-APPLE-RADIUS=100;X-TITLE=The Hill Arts:g
 eo:43.667209,-70.245977
END:VEVENT
BEGIN:VTIMEZONE
TZID:America/Detroit
X-LIC-LOCATION:America/Detroit
BEGIN:DAYLIGHT
DTSTART:20250309T030000
TZOFFSETFROM:-0500
TZOFFSETTO:-0400
TZNAME:EDT
END:DAYLIGHT
END:VTIMEZONE
END:VCALENDAR