BEGIN:VCALENDAR
VERSION:2.0
PRODID:-//wp-events-plugin.com//7.2.3.1//EN
TZID:America/Detroit
X-WR-TIMEZONE:America/Detroit
BEGIN:VEVENT
UID:35472@arabamerica.com
DTSTART;TZID=America/Detroit:20260409T193000
DTEND;TZID=America/Detroit:20260409T210000
DTSTAMP:20251125T173416Z
URL:https://www.arabamerica.com/events/sammy-obeid-dearborn-first/
SUMMARY:Sammy Obeid: Dearborn First!
DESCRIPTION:\n\n\n\nComedian Sammy Obeid (Netflix\, Conan) performs live in
  Dearborn! Thursday\, April 9\, 7:30pm at the Ford Community &amp\; Perfor
 ming Arts Center.\n\n\n\n\n&#x1f389\; Comedian Sammy Obeid is hitting th
 e stage with his razor-sharp wit\, clever math jokes\, and hilariously hon
 est takes on life. Whether you're a numbers nerd or just in the mood for s
 ide-splitting comedy\, this is one show you can’t afford to miss. Prep
 are for a night of genius-level laughter. Seats won’t last\, grab your t
 ickets now!&#x1f3a4\;&#x2728\;\n\nDoors 6:30 pm | Show 7:30 pm\n\nLebanese
 -Palestinian American\, born in Oakland\, California\, Sammy Obeid double 
 majored in Business and Mathematics at UC Berkeley and then turned down a 
 job at Google to be a comedian. Now the host of 100 Humans on Netflix\, he
 ’s also appeared on NBC's Last Comic Standing and America's Got Talent\,
  as well as TBS’s Conan\, and is best known for his world record of perf
 orming comedy 1\,001 nights in a row\, a story featured in both Time Magaz
 ine and The New York Times.\n\n\n\n\n\n\n\n\n\n
ATTACH;FMTTYPE=image/jpeg:https://www.arabamerica.com/wp-content/uploads/2
 025/11/https___cdn.evbuc_.com_images_952492023_1585989755_1_original.jpeg
LOCATION:Ford Community & Performing Arts Center\, 15801 Michigan Ave\, Dea
 rborn\, MI\,  48126\, United States
GEO:42.3141189;-83.1973739
X-APPLE-STRUCTURED-LOCATION;VALUE=URI;X-ADDRESS=15801 Michigan Ave\, Dearbo
 rn\, MI\,  48126\, United States;X-APPLE-RADIUS=100;X-TITLE=Ford Community
  & Performing Arts Center:geo:42.3141189,-83.1973739
END:VEVENT
BEGIN:VTIMEZONE
TZID:America/Detroit
X-LIC-LOCATION:America/Detroit
BEGIN:DAYLIGHT
DTSTART:20260308T030000
TZOFFSETFROM:-0500
TZOFFSETTO:-0400
TZNAME:EDT
END:DAYLIGHT
END:VTIMEZONE
END:VCALENDAR