BEGIN:VCALENDAR
VERSION:2.0
PRODID:-//wp-events-plugin.com//7.2.3.1//EN
TZID:America/Detroit
X-WR-TIMEZONE:America/Detroit
BEGIN:VEVENT
UID:34473@arabamerica.com
DTSTART;TZID=America/Detroit:20250710T193000
DTEND;TZID=America/Detroit:20250710T210000
DTSTAMP:20250527T231929Z
URL:https://www.arabamerica.com/events/sammy-obeid-dishes-it-out-in-dearbo
 rn/
SUMMARY:Sammy Obeid: Dishes it out in Dearborn!
DESCRIPTION:DEARBORN\, MI\n\n&nbsp\;\n\nComedian Sammy Obeid (Netflix\, Con
 an) Dishes it out in Dearborn! Thursday\, July 10\, 7:30pm at the Ford Com
 munity &amp\; Performing Arts Center.\n\nGet Tickets Here
ATTACH;FMTTYPE=image/jpeg:https://www.arabamerica.com/wp-content/uploads/2
 025/05/Screenshot-2025-05-27-at-7.17.36-PM.png
LOCATION:Ford Community & Performing Arts Center\, 15801 Michigan Avenue\, 
 Dearborn \, MI\, 48126\, United States
GEO:42.314087;-83.197163
X-APPLE-STRUCTURED-LOCATION;VALUE=URI;X-ADDRESS=15801 Michigan Avenue\, Dea
 rborn \, MI\, 48126\, United States;X-APPLE-RADIUS=100;X-TITLE=Ford Commun
 ity & Performing Arts Center:geo:42.314087,-83.197163
END:VEVENT
BEGIN:VTIMEZONE
TZID:America/Detroit
X-LIC-LOCATION:America/Detroit
BEGIN:DAYLIGHT
DTSTART:20250309T030000
TZOFFSETFROM:-0500
TZOFFSETTO:-0400
TZNAME:EDT
END:DAYLIGHT
END:VTIMEZONE
END:VCALENDAR