BEGIN:VCALENDAR
VERSION:2.0
PRODID:-//wp-events-plugin.com//7.2.3.1//EN
TZID:America/Detroit
X-WR-TIMEZONE:America/Detroit
BEGIN:VEVENT
UID:34479@arabamerica.com
DTSTART;TZID=America/Detroit:20250803T173000
DTEND;TZID=America/Detroit:20250803T190000
DTSTAMP:20250528T005134Z
URL:https://www.arabamerica.com/events/sammy-obeid-la-love/
SUMMARY:Sammy Obeid: LA Love!
DESCRIPTION:LOS ANGELES\, CA\n\n&nbsp\;\n\nComedian Sammy Obeid (Netflix\, 
 Conan) is LIVE in LA\, ONE night only! Sunday\, August 3\, at DAF Studios.
  Two shows\, 5:30pm and 8:00pm.\n\nJoin Sammy Obeid for a night of laughte
 r at DAF Studios in Los Angeles! &#x1f3a4\;&#x2728\; Sammy brings his Dome
 stic Tourist tour to LA with his sharp wit and unforgettable stories about
  life\, math\, and everything in between! &#x1f602\;&#x1f306\;Don’t miss
  this chance to experience comedy in a raw\, authentic setting! &#x1f355\;
 &#x1f37b\; All ages welcome — BYOB and food encouraged for the full come
 dy hangout vibe! &#x1f389\;\n\nShow 1: Doors 5:00 pm\, Show 5:30 pm\n\nSho
 w 2: Doors 7:50 pm\, Show 8:00 pm\n\nLebanese-Palestinian American\, born 
 in Oakland California\, Sammy Obeid double majored in Business and Mathema
 tics at UC Berkeley and then turned down a job at Google to be a comedian.
  Now the host of 100 Humans on Netflix\, he’s also appeared on NBC's Las
 t Comic Standing and America's Got Talent\,as well as TBS’s Conan\, and 
 is best known for his world record of performing comedy 1\,001 nights in a
  row\, a story featured in both Time Magazine and The New York Times.\n\n&
 nbsp\;\n\nGet tickets here
ATTACH;FMTTYPE=image/jpeg:https://www.arabamerica.com/wp-content/uploads/2
 025/05/Screenshot-2025-05-27-at-8.50.22-PM.png
LOCATION:DAF Studios\, 2234 West Temple Street\, Los Angeles\, CA\, 90026\,
  United States
GEO:34.070819;-118.270527
X-APPLE-STRUCTURED-LOCATION;VALUE=URI;X-ADDRESS=2234 West Temple Street\, L
 os Angeles\, CA\, 90026\, United States;X-APPLE-RADIUS=100;X-TITLE=DAF Stu
 dios:geo:34.070819,-118.270527
END:VEVENT
BEGIN:VTIMEZONE
TZID:America/Detroit
X-LIC-LOCATION:America/Detroit
BEGIN:DAYLIGHT
DTSTART:20250309T030000
TZOFFSETFROM:-0500
TZOFFSETTO:-0400
TZNAME:EDT
END:DAYLIGHT
END:VTIMEZONE
END:VCALENDAR