BEGIN:VCALENDAR
VERSION:2.0
PRODID:-//wp-events-plugin.com//7.2.3.1//EN
TZID:America/Detroit
X-WR-TIMEZONE:America/Detroit
BEGIN:VEVENT
UID:35599@arabamerica.com
DTSTART:20260105T020000Z
DTEND:20260105T060000Z
DTSTAMP:20251217T042538Z
URL:https://www.arabamerica.com/events/sammy-obeid-let-him-bake-in-bakersf
 ield/
SUMMARY:Sammy Obeid: Let him Bake in Bakersfield!
DESCRIPTION:\n\nBAKERSFIELD\, CA\nOverview\n\n\n\n\n\nComedian Sammy Obeid 
 (Netflix\, Conan) performs LIVE in Bakersfield on Sunday\, January 4\, 6:0
 0 PM at Legends Lounge and Event Centre.\n\n\n\n\nKick off 2026 with a nig
 ht of BIG laughs! The international comedic force\, Sammy Obeid doesn’t 
 just tell jokes\, he weaves razor-sharp cultural observations with brainy\
 , math-powered humor that will have you thinking\, gasping\, and genuinely
  roaring with laughter. This is comedy that hits hard and sticks with you 
 long after the show!\n\nHe’s skipping the stale and bringing the fresh H
 EAT &#x1f525\; as he takes over LEGENDS Lounge &amp\; Event Centre in Ba
 kersfield for ONE NIGHT ONLY! Grab your tickets and bring your friends c
 uz we gon' turn up\, Central Valley Style!\n\nDoors 5:00pm | Show 6:00pm\n
 \nLebanese-Palestinian American\, born in Oakland California\, Sammy Obei
 d double majored in Business and Mathematics at UC Berkeley and then turn
 ed down a job at Google to be a comedian. Now the host of 100 Humans on Ne
 tflix\, he’s also appeared on NBC's Last Comic Standing and America's
  Got Talent\, as well as TBS’s Conan\, and is best known for his worl
 d record of performing comedy 1\,001 nights in a row\, a story featured in
  both Time Magazine and The New York Times.\n\n\n\n\n\n\n\n\n
ATTACH;FMTTYPE=image/jpeg:https://www.arabamerica.com/wp-content/uploads/2
 024/04/Sammy-Obeid-Image-.png
LOCATION:LEGENDS LOUNGE & EVENT CENTRE\, 7900 Downing Ave\, Bakersfield\, C
 A\, 93308\, United States
GEO:35.391287;-119.088991
X-APPLE-STRUCTURED-LOCATION;VALUE=URI;X-ADDRESS=7900 Downing Ave\, Bakersfi
 eld\, CA\, 93308\, United States;X-APPLE-RADIUS=100;X-TITLE=LEGENDS LOUNGE
  & EVENT CENTRE:geo:35.391287,-119.088991
END:VEVENT
END:VCALENDAR