BEGIN:VCALENDAR
VERSION:2.0
PRODID:-//wp-events-plugin.com//7.2.3.1//EN
TZID:America/Detroit
X-WR-TIMEZONE:America/Detroit
BEGIN:VEVENT
UID:31514@arabamerica.com
DTSTART;TZID=America/Detroit:20231018T190000
DTEND;TZID=America/Detroit:20231018T220000
DTSTAMP:20230807T175453Z
URL:https://www.arabamerica.com/events/sammy-obeid-live-in-chicago/
SUMMARY:Sammy Obeid: Live in Chicago
DESCRIPTION:Comedian Sammy Obeid comes to Chicago for one night\n\nLebanese
 -Palestinian American\, born in Oakland California\, Sammy Obeid double ma
 jored in Business and Mathematics at UC Berkeley and then turned down a jo
 b at Google to be a comedian. Now the host of 100 Humans on Netflix\, he
 ’s also appeared on NBC's Last Comic Standing and America's Got Talent\,
  as well as TBS’s Conan\, and is best known for his world record of perf
 orming comedy 1\,001 nights in a row\, a story featured in both Time Magaz
 ine and The New York Times.
ATTACH;FMTTYPE=image/jpeg:https://www.arabamerica.com/wp-content/uploads/2
 023/08/Screen-Shot-2023-08-07-at-1.38.29-PM.png
CATEGORIES:#comedy_show,Arab Comedian,Chicago,lebanese,Things to do in
 Chicago
LOCATION:The Newport Theater\, 956 West Newport Avenue\, Chicago\, 60657\, 
 United States
GEO:41.944695;-87.654003
X-APPLE-STRUCTURED-LOCATION;VALUE=URI;X-ADDRESS=956 West Newport Avenue\, C
 hicago\, 60657\, United States;X-APPLE-RADIUS=100;X-TITLE=The Newport Thea
 ter:geo:41.944695,-87.654003
END:VEVENT
BEGIN:VTIMEZONE
TZID:America/Detroit
X-LIC-LOCATION:America/Detroit
BEGIN:DAYLIGHT
DTSTART:20230312T030000
TZOFFSETFROM:-0500
TZOFFSETTO:-0400
TZNAME:EDT
END:DAYLIGHT
END:VTIMEZONE
END:VCALENDAR