BEGIN:VCALENDAR
VERSION:2.0
PRODID:-//wp-events-plugin.com//7.2.3.1//EN
TZID:America/Detroit
X-WR-TIMEZONE:America/Detroit
BEGIN:VEVENT
UID:32920@arabamerica.com
DTSTART;TZID=America/Detroit:20240816T190000
DTEND;TZID=America/Detroit:20240816T220000
DTSTAMP:20240529T143907Z
URL:https://www.arabamerica.com/events/sammy-obeid-live-in-syracuse-3/
SUMMARY:Sammy Obeid: Live in Syracuse!
DESCRIPTION:\n\n\nSYRACUSE\, NY\n\n\n\n\n\n\n\n\n\n\nDoors 6 pm\, Show 7 pm
  (Sammy goes on around 7:30)\n\nJoin Sammy for one amazing night! Everson 
 Museum of Art's Auditorium is really nice. Drinks will be available for pu
 chase. All ages welcome\, but Sammy might use some adult language (you've 
 seen his material).\n\nLebanese-Palestinian American\, born in Oakland Cal
 ifornia\, Sammy Obeid double majored in Business and Mathematics at UC B
 erkeley and then turned down a job at Google to be a comedian. Now the hos
 t of 100 Humans on Netflix\, he’s also appeared on NBC's Last Comic Sta
 nding and America's Got Talent\, as well as TBS’s Conan\, and is be
 st known for his world record of performing comedy 1\,001 nights in a row\
 , a story featured in both Time Magazine and The New York Times.\n\n\n\
 n\n\n\n\n\n\n
ATTACH;FMTTYPE=image/jpeg:https://www.arabamerica.com/wp-content/uploads/2
 024/05/Screenshot-2024-05-29-073527.png
LOCATION:Everson Museum of Art\, 401 Harrison Street \, Syracuse\, NY\, 132
 02\, United States
GEO:43.044718;-76.146717
X-APPLE-STRUCTURED-LOCATION;VALUE=URI;X-ADDRESS=401 Harrison Street \, Syra
 cuse\, NY\, 13202\, United States;X-APPLE-RADIUS=100;X-TITLE=Everson Museu
 m of Art:geo:43.044718,-76.146717
END:VEVENT
BEGIN:VTIMEZONE
TZID:America/Detroit
X-LIC-LOCATION:America/Detroit
BEGIN:DAYLIGHT
DTSTART:20240310T030000
TZOFFSETFROM:-0500
TZOFFSETTO:-0400
TZNAME:EDT
END:DAYLIGHT
END:VTIMEZONE
END:VCALENDAR