BEGIN:VCALENDAR
VERSION:2.0
PRODID:-//wp-events-plugin.com//7.2.3.1//EN
TZID:America/Detroit
X-WR-TIMEZONE:America/Detroit
BEGIN:VEVENT
UID:35268@arabamerica.com
DTSTART;TZID=America/Detroit:20260110T160000
DTEND;TZID=America/Detroit:20260110T173000
DTSTAMP:20251020T122008Z
URL:https://www.arabamerica.com/events/sammy-obeid-slays-la/
SUMMARY:Sammy Obeid: Slays LA!
DESCRIPTION:LOS ANGELES\, CA\n\n\n\n\n\n&#x1f399\;&#xfe0f\;&#x2728\; Get re
 ady for a hilarious hangout! Sammy Obeid is bringing his unique\, razor-sh
 arp comedy to DAF Studios in LA for a night of laughs you won't forget. He
 'll dive into everything from life and math to the latest news\, all with 
 his signature wit and charm.This isn't your average comedy show! Feel free
  to bring your own drinks and food to enjoy the perfect\, chill comedy vib
 e. All ages are welcome\, so grab your friends for a fun\, unforgettable e
 vening! &#x1f389\;\n\nShow 1: Doors 3:30 pm\, Show 4:00 pm\n\nShow 2: Door
 s 6:15 pm\, Show 6:30 pm\n\nLebanese-Palestinian American\, born in Oaklan
 d California\, Sammy Obeid double majored in Business and Mathematics at U
 C Berkeley and then turned down a job at Google to be a comedian. Now the 
 host of 100 Humans on Netflix\, he’s also appeared on NBC's Last Comic S
 tanding and America's Got Talent\,as well as TBS’s Conan\, and is best k
 nown for his world record of performing comedy 1\,001 nights in a row\, a 
 story featured in both Time Magazine and The New York Times.\n\n\n\n\n\n[e
 mbed]https://youtu.be/JdJwzSsLWZM[/embed]\n\n
ATTACH;FMTTYPE=image/jpeg:https://www.arabamerica.com/wp-content/uploads/2
 025/10/https-cdn.evbuc_.com-images-1133107073-1585989755-1-original.202509
 23-193311.jpeg
LOCATION:DAF Studios\, 2234 West Temple Street\, Los Angeles\, CA\, 90026\,
  United States
GEO:34.070819;-118.270527
X-APPLE-STRUCTURED-LOCATION;VALUE=URI;X-ADDRESS=2234 West Temple Street\, L
 os Angeles\, CA\, 90026\, United States;X-APPLE-RADIUS=100;X-TITLE=DAF Stu
 dios:geo:34.070819,-118.270527
END:VEVENT
BEGIN:VTIMEZONE
TZID:America/Detroit
X-LIC-LOCATION:America/Detroit
BEGIN:STANDARD
DTSTART:20251102T010000
TZOFFSETFROM:-0400
TZOFFSETTO:-0500
TZNAME:EST
END:STANDARD
END:VTIMEZONE
END:VCALENDAR