BEGIN:VCALENDAR
VERSION:2.0
PRODID:-//wp-events-plugin.com//7.2.3.1//EN
TZID:America/Detroit
X-WR-TIMEZONE:America/Detroit
BEGIN:VEVENT
UID:35231@arabamerica.com
DTSTART;TZID=America/Detroit:20251208T183000
DTEND;TZID=America/Detroit:20251208T183000
DTSTAMP:20251013T223615Z
URL:https://www.arabamerica.com/events/sammy-obeid-touchdown-atlanta/
SUMMARY:Sammy Obeid: Touchdown Atlanta!
DESCRIPTION:ATLANTA\, GA\n\n\n\n\n\n\n\n\n\n\n\nWith sold-out shows worldwi
 de\, comedian Sammy Obeid brings his Domestic Tourist tour to Boston! Know
 n for his unique blend of cultural observations and math-inspired humor\, 
 Sammy brings a night of comedy that’s smart\, silly\, and unforgettable.
 \n\nSet in the heart of Atlanta at Media Production Studios\, you’ll exp
 erience world-class comedy in a venue built for creatives and good vibes. 
 &#x2728\; Bring your friends\, grab a seat\, and be part of a night to rem
 ember!\n\n&#x1f3ac\;&#x1f3ad\; BYOB\, bring your favorite drink! All ages 
 welcome.\n\nDoors 5:30 pm | Show 6:30 pm\n\nLebanese-Palestinian American\
 , born in Oakland California\, Sammy Obeid double majored in Business and 
 Mathematics at UC Berkeley and then turned down a job at Google to be a co
 median. Now the host of 100 Humans on Netflix\, he’s also appeared on NB
 C's Last Comic Standing and America's Got Talent\,as well as TBS’s Conan
 \, and is best known for his world record of performing comedy 1\,001 nigh
 ts in a row\, a story featured in both Time Magazine and The New York Time
 s.\n\n\n\n\n\n\n\n\n\n\n\n\n\n\n\n\n\n\n
ATTACH;FMTTYPE=image/jpeg:https://www.arabamerica.com/wp-content/uploads/2
 025/10/https-cdn.evbuc_.com-images-1120272203-1585989755-1-original.202509
 10-173658.jpeg
LOCATION:Media Production Studios\, 1230 Logan Circle Northwest\, Atlanta\,
  GA\, 30318\, United States
GEO:33.806823;-84.430022
X-APPLE-STRUCTURED-LOCATION;VALUE=URI;X-ADDRESS=1230 Logan Circle Northwest
 \, Atlanta\, GA\, 30318\, United States;X-APPLE-RADIUS=100;X-TITLE=Media P
 roduction Studios:geo:33.806823,-84.430022
END:VEVENT
BEGIN:VTIMEZONE
TZID:America/Detroit
X-LIC-LOCATION:America/Detroit
BEGIN:STANDARD
DTSTART:20251102T010000
TZOFFSETFROM:-0400
TZOFFSETTO:-0500
TZNAME:EST
END:STANDARD
END:VTIMEZONE
END:VCALENDAR