BEGIN:VCALENDAR
VERSION:2.0
PRODID:-//wp-events-plugin.com//7.2.3.1//EN
TZID:America/Detroit
X-WR-TIMEZONE:America/Detroit
BEGIN:VEVENT
UID:34470@arabamerica.com
DTSTART;TZID=America/Detroit:20250603T193000
DTEND;TZID=America/Detroit:20250603T210000
DTSTAMP:20250528T002438Z
URL:https://www.arabamerica.com/events/sammy-obeid-tucson-detour/
SUMMARY:Sammy Obeid: Tucson Detour!
DESCRIPTION:TUCSON\, AZ\n\n&nbsp\;\n\nGet ready for an unforgettable evenin
 g as &#x1f3a4\; Sammy Obeid brings his Domestic Tourist tour to the desert
  for a night of comedy hotter than the Arizona sun. &#x1f525\;&#x1f335\;Hi
 s unique take on life\, math\, and everything in between is comedy like yo
 u’ve never heard before &#x1f92f\;&#x1f923\;. Catch him LIVE in Tucson f
 or a show packed with cactus-level sharp punchlines.\n\nDoors 7:00 pm | Sh
 ow 7:30 pm\n\nLebanese-Palestinian American\, born in Oakland California\,
  Sammy Obeid double majored in Business and Mathematics at UC Berkeley and
  then turned down a job at Google to be a comedian. Now the host of 100 Hu
 mans on Netflix\, he’s also appeared on NBC's Last Comic Standing and Am
 erica's Got Talent\,as well as TBS’s Conan\, and is best known for his w
 orld record of performing comedy 1\,001 nights in a row\, a story featured
  in both Time Magazine and The New York Times.\n\nGet Tickets Here
ATTACH;FMTTYPE=image/jpeg:https://www.arabamerica.com/wp-content/uploads/2
 025/05/Screenshot-2025-05-27-at-6.47.39-PM.png
LOCATION:2210 South 6th Avenue\, 2210 South 6th Avenue \, Tucson \, AZ\, 85
 713\, United States
GEO:32.196318;-110.968778
X-APPLE-STRUCTURED-LOCATION;VALUE=URI;X-ADDRESS=2210 South 6th Avenue \, Tu
 cson \, AZ\, 85713\, United States;X-APPLE-RADIUS=100;X-TITLE=2210 South 6
 th Avenue:geo:32.196318,-110.968778
END:VEVENT
BEGIN:VTIMEZONE
TZID:America/Detroit
X-LIC-LOCATION:America/Detroit
BEGIN:DAYLIGHT
DTSTART:20250309T030000
TZOFFSETFROM:-0500
TZOFFSETTO:-0400
TZNAME:EDT
END:DAYLIGHT
END:VTIMEZONE
END:VCALENDAR