BEGIN:VCALENDAR
VERSION:2.0
PRODID:-//wp-events-plugin.com//7.2.3.1//EN
TZID:America/Detroit
X-WR-TIMEZONE:America/Detroit
BEGIN:VEVENT
UID:35568@arabamerica.com
DTSTART;TZID=America/Los_Angeles:20260131T180000
DTEND;TZID=America/Los_Angeles:20260131T230000
DTSTAMP:20251216T163024Z
URL:https://www.arabamerica.com/events/sams-california-annual-gala-2026/
SUMMARY:SAMS California Annual Gala 2026
DESCRIPTION:NEWPORT BEACH\, CA\n\nWe are excited to return for another unfo
 rgettable evening dedicated to support a stronger\, healthier Syria at the
  SAMS CA Annual Gala 2026\n\n\n\n&#x2728\; Get Ready for the SAMS Californ
 ia Chapter Gala 2026! &#x2728\;\nTheme: A Strong Plan\, A Healthier Syria
 \nJoin us in person for an unforgettable evening at the SAMS California C
 hapter Gala 2026!\nThis year’s gala embraces the inspiring theme “A S
 trong Plan\, A Healthier Syria\,” highlighting our shared commitment to
  building a brighter\, more resilient future for the Syrian people.\n\nAt 
 the heart of the evening is SAMS’ Syria Health 2030 initiative—a tran
 sformative vision to rebuild and strengthen Syria’s healthcare system. T
 hrough a strategic\, phased approach\, this initiative addresses urgent me
 dical needs while laying the foundation for a sustainable\, high-quality h
 ealthcare network that can serve millions impacted by years of crisis.\n\n
 Come celebrate this mission\, connect with community members\, and enjoy a
 n evening filled with purpose\, inspiration\, and meaningful conversations
 .\nMark your calendar and get ready for a night to remember—together\, w
 e can create lasting change.\n\nGET TICKETS HERE\n\n\n
ATTACH;FMTTYPE=image/jpeg:https://www.arabamerica.com/wp-content/uploads/2
 025/12/Screenshot-2025-12-16-at-11.28.30-AM.png
LOCATION:Renaissance Newport Beach Hotel\, 4500 Macarthur Boulevard\, Newpo
 rt Beach\, California\, 92660\, United States
GEO:33.667629;-117.862432
X-APPLE-STRUCTURED-LOCATION;VALUE=URI;X-ADDRESS=4500 Macarthur Boulevard\, 
 Newport Beach\, California\, 92660\, United States;X-APPLE-RADIUS=100;X-TI
 TLE=Renaissance Newport Beach Hotel:geo:33.667629,-117.862432
END:VEVENT
BEGIN:VTIMEZONE
TZID:America/Los_Angeles
X-LIC-LOCATION:America/Los_Angeles
BEGIN:STANDARD
DTSTART:20251102T010000
TZOFFSETFROM:-0700
TZOFFSETTO:-0800
TZNAME:PST
END:STANDARD
END:VTIMEZONE
END:VCALENDAR