BEGIN:VCALENDAR
VERSION:2.0
PRODID:-//wp-events-plugin.com//7.2.3.1//EN
TZID:America/Detroit
X-WR-TIMEZONE:America/Detroit
BEGIN:VEVENT
UID:35400@arabamerica.com
DTSTART;TZID=America/Detroit:20251213T183000
DTEND;TZID=America/Detroit:20251213T220000
DTSTAMP:20251111T210011Z
URL:https://www.arabamerica.com/events/sams-michigan-annual-gala-dinner/
SUMMARY:SAMS Michigan Annual Gala Dinner
DESCRIPTION:Join us For an Evening of Celebration.
ATTACH;FMTTYPE=image/jpeg:https://www.arabamerica.com/wp-content/uploads/2
 025/11/https___cdn.evbuc_.com_images_1151923483_97138894543_1_original-1.j
 pg
CATEGORIES:Charity,charity fundraiser,Charity
 gala,Dinner,Michigan,Michigan Event
LOCATION:Detroit Marriott Troy\, 1200 W Big Beaver Rd\, Troy\, Michigan\, 4
 8084\, United States
GEO:42.561665;-83.17658059999997
X-APPLE-STRUCTURED-LOCATION;VALUE=URI;X-ADDRESS=1200 W Big Beaver Rd\, Troy
 \, Michigan\, 48084\, United States;X-APPLE-RADIUS=100;X-TITLE=Detroit Mar
 riott Troy:geo:42.561665,-83.17658059999997
END:VEVENT
BEGIN:VTIMEZONE
TZID:America/Detroit
X-LIC-LOCATION:America/Detroit
BEGIN:STANDARD
DTSTART:20251102T010000
TZOFFSETFROM:-0400
TZOFFSETTO:-0500
TZNAME:EST
END:STANDARD
END:VTIMEZONE
END:VCALENDAR