BEGIN:VCALENDAR
VERSION:2.0
PRODID:-//wp-events-plugin.com//7.2.3.1//EN
TZID:America/Detroit
X-WR-TIMEZONE:America/Detroit
BEGIN:VEVENT
UID:33005@arabamerica.com
DTSTART;TZID=America/Detroit:20240614T140000
DTEND;TZID=America/Detroit:20240614T230000
DTSTAMP:20240611T142614Z
URL:https://www.arabamerica.com/events/sanas-annual-eid-bazaar/
SUMMARY:Sana's Annual Eid Bazaar
DESCRIPTION:\n\nGet ready for a day of shopping\, food\, and fun at Sana's 
 Annual Eid Bazaar!\n\n\n\n\n\n\n\n\n\n\n\n\n\n\n\n\n
LOCATION:Comfort Inn & Suites\, 900 East Main Street\, Meriden\, CT\, 06450
 \, United States
GEO:41.527908;-72.773182
X-APPLE-STRUCTURED-LOCATION;VALUE=URI;X-ADDRESS=900 East Main Street\, Meri
 den\, CT\, 06450\, United States;X-APPLE-RADIUS=100;X-TITLE=Comfort Inn & 
 Suites:geo:41.527908,-72.773182
END:VEVENT
BEGIN:VTIMEZONE
TZID:America/Detroit
X-LIC-LOCATION:America/Detroit
BEGIN:DAYLIGHT
DTSTART:20240310T030000
TZOFFSETFROM:-0500
TZOFFSETTO:-0400
TZNAME:EDT
END:DAYLIGHT
END:VTIMEZONE
END:VCALENDAR