BEGIN:VCALENDAR
VERSION:2.0
PRODID:-//wp-events-plugin.com//7.2.3.1//EN
TZID:America/Detroit
X-WR-TIMEZONE:America/Detroit
BEGIN:VEVENT
UID:35561@arabamerica.com
DTSTART;TZID=America/Detroit:20251220T220000
DTEND;TZID=America/Detroit:20251220T234500
DTSTAMP:20251216T072203Z
URL:https://www.arabamerica.com/events/santa-in-the-sands-afro-house-arab-
 house/
SUMMARY:SANTA IN THE SANDS (Afro House / Arab House)
DESCRIPTION:\nBoston’s first Arabian inspired Christmas party. Santa\, de
 sert vibes\, Arab House + EDM\, Hava Nightclub\, December 20th. Limited ti
 ckets!\n\n\n\n\nSahara Nights Presents:\n\nSANTA IN THE SANDS &#x1f335\;&
 #x1f385\;\n(Afro House x Arab House x Global Sounds)\n\n 	Santa ditched th
 e North Pole and pulled up to the desert—camel and all.\n 	Expect red-ho
 t vibes\, desert heat\, and a Santa who definitely bumps Keinemusik on the
  low.\n\n&#x1f525\; Tickets will sell fast — grab yours now!\n\n&#x1f37
 e\; VIP Reservations: (508) 353-3920\n\n&#x203c\;&#xfe0f\; 21+ Event\n\n
 &#x1f39f\;&#xfe0f\; All Sales Are Final\n\n&#x1f4c5\; December 20\n&#x1f4
 cd\; HAVA Nightclub 246 Tremont St.\, Boston\, MA\n\nwww.instagram.com/sa
 haranightsbos\n\n\n\n\n\n\n\n\n\n
ATTACH;FMTTYPE=image/jpeg:https://www.arabamerica.com/wp-content/uploads/2
 025/12/Screenshot-2025-12-15-at-11.26.32-PM.png
CATEGORIES:Arab American,Community
LOCATION:Hava Nightclub\, 246 Tremont Street \, Boston\, MA\, 02116\, Unite
 d States
GEO:42.350731;-71.064725
X-APPLE-STRUCTURED-LOCATION;VALUE=URI;X-ADDRESS=246 Tremont Street \, Bosto
 n\, MA\, 02116\, United States;X-APPLE-RADIUS=100;X-TITLE=Hava Nightclub:g
 eo:42.350731,-71.064725
END:VEVENT
BEGIN:VTIMEZONE
TZID:America/Detroit
X-LIC-LOCATION:America/Detroit
BEGIN:STANDARD
DTSTART:20251102T010000
TZOFFSETFROM:-0400
TZOFFSETTO:-0500
TZNAME:EST
END:STANDARD
END:VTIMEZONE
END:VCALENDAR