BEGIN:VCALENDAR
VERSION:2.0
PRODID:-//wp-events-plugin.com//7.2.3.1//EN
TZID:America/Detroit
X-WR-TIMEZONE:America/Detroit
BEGIN:VEVENT
UID:34724@arabamerica.com
DTSTART;TZID=America/Detroit;VALUE=DATE:20260424
DTEND;TZID=America/Detroit;VALUE=DATE:20260425
DTSTAMP:20250707T202706Z
URL:https://www.arabamerica.com/events/save-the-date-access-55th-anniversa
 ry-dinner/
SUMMARY:Save the Date: ACCESS 55th Anniversary Dinner
DESCRIPTION:DETROIT\, MI\n\n&nbsp\;\n\nCelebrating 55 Years of Community\, 
 Culture\, and Impact\n\nDear Friends\,\n\nWe’re thrilled to announce tha
 t the ACCESS 55th Anniversary Dinner will take place on Friday\, April 
 24\, 2026\, at the Detroit Marriott at the Renaissance Center.\n\nFor 55
  years\, this event has stood as a testament to our shared vision—a cele
 bration of Arab American heritage\, a recognition of community leadership\
 , and a call to action for lasting impact.\n\nEach year\, we gather with l
 eaders\, advocates\, and supporters to honor the Arab American of the Yea
 r and uplift the stories\, voices\, and strength that shape our communiti
 es.\n\nProceeds from this year’s event will support the essential work A
 CCESS delivers through more than 120 programs and services\, reaching in
 dividuals and families across Southeast Michigan and beyond.\n\nWe hope yo
 u’ll join us for this milestone evening. Mark your calendar now and sta
 y tuned for ticket details and announcements!
ATTACH;FMTTYPE=image/jpeg:https://www.arabamerica.com/wp-content/uploads/2
 025/07/ACCESS_Dinner.png
LOCATION:Detroit Marriott Renaissance Center\, 400 Renaissance Drive\, Detr
 oit\, Michigan\, 48243\, United States
GEO:42.3293061;-83.04148950000001
X-APPLE-STRUCTURED-LOCATION;VALUE=URI;X-ADDRESS=400 Renaissance Drive\, Det
 roit\, Michigan\, 48243\, United States;X-APPLE-RADIUS=100;X-TITLE=Detroit
  Marriott Renaissance Center:geo:42.3293061,-83.04148950000001
END:VEVENT
BEGIN:VTIMEZONE
TZID:America/Detroit
X-LIC-LOCATION:America/Detroit
BEGIN:DAYLIGHT
DTSTART:20260308T030000
TZOFFSETFROM:-0500
TZOFFSETTO:-0400
TZNAME:EDT
END:DAYLIGHT
END:VTIMEZONE
END:VCALENDAR