BEGIN:VCALENDAR
VERSION:2.0
PRODID:-//wp-events-plugin.com//7.2.3.1//EN
TZID:America/Detroit
X-WR-TIMEZONE:America/Detroit
BEGIN:VEVENT
UID:34871@arabamerica.com
DTSTART;TZID=America/Detroit:20250928T160000
DTEND;TZID=America/Detroit:20250928T190000
DTSTAMP:20250803T211238Z
URL:https://www.arabamerica.com/events/save-the-date-chicago-anniversary-b
 enefit-dinner/
SUMMARY:SAVE THE DATE: Chicago Anniversary Benefit Dinner
DESCRIPTION:CHICAGO\, IL\n\n&nbsp\;\n\nJoin us for an evening of solidarity
 \, where we come together to support the steadfastness of the Palestinian 
 people in Gaza and the West Bank. The benefit dinner will be an opportunit
 y to reflect on our accomplishments and the path forward in providing esse
 ntial aid and support.
ATTACH;FMTTYPE=image/jpeg:https://www.arabamerica.com/wp-content/uploads/2
 025/08/save_the_date.jpg
LOCATION:Alhambra Palace Restaurant\, 1240 W Randolph St\, Chicago\, Illino
 is\, 60607\, United States
GEO:41.8846194;-87.65822800000001
X-APPLE-STRUCTURED-LOCATION;VALUE=URI;X-ADDRESS=1240 W Randolph St\, Chicag
 o\, Illinois\, 60607\, United States;X-APPLE-RADIUS=100;X-TITLE=Alhambra P
 alace Restaurant:geo:41.8846194,-87.65822800000001
END:VEVENT
BEGIN:VTIMEZONE
TZID:America/Detroit
X-LIC-LOCATION:America/Detroit
BEGIN:DAYLIGHT
DTSTART:20250309T030000
TZOFFSETFROM:-0500
TZOFFSETTO:-0400
TZNAME:EDT
END:DAYLIGHT
END:VTIMEZONE
END:VCALENDAR