BEGIN:VCALENDAR
VERSION:2.0
PRODID:-//wp-events-plugin.com//7.2.3.1//EN
TZID:America/Detroit
X-WR-TIMEZONE:America/Detroit
BEGIN:VEVENT
UID:34872@arabamerica.com
DTSTART;TZID=America/Detroit:20250920T183000
DTEND;TZID=America/Detroit:20250920T210000
DTSTAMP:20250803T212506Z
URL:https://www.arabamerica.com/events/save-the-date-dallas-anniversary-be
 nefit-dinner/
SUMMARY:SAVE THE DATE: Dallas Anniversary Benefit Dinner
DESCRIPTION:DALLAS\, TX\n\n&nbsp\;\n\nJoin us for an evening of solidarity\
 , where we come together to support the steadfastness of the Palestinian p
 eople in Gaza and the West Bank. The benefit dinner will be an opportunity
  to reflect on our accomplishments and the path forward in providing essen
 tial aid and support.\n\nSpecial Recognition\n\nThis year\, we are proud t
 o honor Mr. Shouki Shaheen and celebrate Dr. Piero Verro for their unw
 avering commitment and contributions to our organization. Their dedication
  exemplifies the spirit of giving and community support that is at the hea
 rt of The Jerusalem Fund.\n\nKeynote Speaker\n\nWe are honored to have Sa
 m Rasoul\, an American politician serving as a member of the Virginia Hous
 e of Delegates.\n\n&nbsp\;\n\nVenue\n\nThe Benefit Dinner will take place 
 at the DoubleTree Hotel\, Dallas Campbell Center in Dallas\, TX.\n\n8250 N
 . Central Expressway\, Dallas\, TX 75206\n\n&nbsp\;\n\nMark your calendars
  and join us for an evening of camaraderie\, recognition\, and commitment 
 to making a difference. Together\, we can continue to provide hope and aid
  to those in need.
ATTACH;FMTTYPE=image/jpeg:https://www.arabamerica.com/wp-content/uploads/2
 025/08/benefit_dinner.jpg
LOCATION:DoubleTree Hotel\, Dallas Campbell Center\, 8250 N. Central Expres
 sway\, Dallas\, TX\, 75206\, United States
GEO:32.862853;-96.768852
X-APPLE-STRUCTURED-LOCATION;VALUE=URI;X-ADDRESS=8250 N. Central Expressway\
 , Dallas\, TX\, 75206\, United States;X-APPLE-RADIUS=100;X-TITLE=DoubleTre
 e Hotel\, Dallas Campbell Center:geo:32.862853,-96.768852
END:VEVENT
BEGIN:VTIMEZONE
TZID:America/Detroit
X-LIC-LOCATION:America/Detroit
BEGIN:DAYLIGHT
DTSTART:20250309T030000
TZOFFSETFROM:-0500
TZOFFSETTO:-0400
TZNAME:EDT
END:DAYLIGHT
END:VTIMEZONE
END:VCALENDAR