BEGIN:VCALENDAR
VERSION:2.0
PRODID:-//wp-events-plugin.com//7.2.3.1//EN
TZID:America/Detroit
X-WR-TIMEZONE:America/Detroit
BEGIN:VEVENT
UID:34279@arabamerica.com
DTSTART;TZID=America/Detroit:20250412T160000
DTEND;TZID=America/Detroit:20250412T183000
DTSTAMP:20250407T061002Z
URL:https://www.arabamerica.com/events/screening-a-thousand-and-one-berber
 -nights-qa-with-hisham-aidi-2/
SUMMARY:Screening - A Thousand and One Berber Nights + Q&A with Hisham Aidi
DESCRIPTION:PRINCETON\, NJ\n\nAs part of the third edition of the Princeton
  French Film Festival\, you're invited to the exceptional screening of A T
 housand and One Berber Nights (2024) by scholar and filmmaker Hisham Aidi 
 of Columbia University who will be in attendance for a Q&amp\;A with the a
 udience. Introduction and moderation by Prof. Habiba Boumlik (CUNY).\n\nTh
 is film screening event is offered in conjunction with Alia Bensliman’s 
 “Now and Then: Amazigh Resurgence” exhibition at the Arts Council of P
 rinceton.\n\nFollowed by a reception with special Moroccan food and drinks
  catered by local Casablanca Restaurant.\n\nPractical information:\nOpen t
 o everyone upon registration. In Arabic and English with English subtitles
 \, the screening will start at 4:00 PM on Saturday\, April 12th\, 2025\, a
 nd will last approximately 53 minutes. Doors to the screening room open at
  3:45 PM and the exhibition is accessible during normal hours from April 5
 th to May 3rd\, 2025.\n\nSynopsis:\nIn the late 1950s Hassan Ouakrim was a
  young dancer and actor in Morocco. Little did he know that he would soon 
 become the protegé of La Mama Theatre founder Ellen Stewart\, performing 
 across America\, forming friendships with the likes of jazz virtuosos Orne
 tte Coleman and Randy Weston\, and becoming a pioneer in spreading Berber 
 dance and music in North America.
ATTACH;FMTTYPE=image/jpeg:https://www.arabamerica.com/wp-content/uploads/2
 025/04/Screenshot-2025-04-07-at-2.17.02 AM.png
LOCATION:Arts Council of Princeton\, 102 Witherspoon Street\, Princeton\, N
 J\, United States
GEO:40.35273;-74.661877
X-APPLE-STRUCTURED-LOCATION;VALUE=URI;X-ADDRESS=102 Witherspoon Street\, Pr
 inceton\, NJ\, United States;X-APPLE-RADIUS=100;X-TITLE=Arts Council of Pr
 inceton:geo:40.35273,-74.661877
END:VEVENT
BEGIN:VTIMEZONE
TZID:America/Detroit
X-LIC-LOCATION:America/Detroit
BEGIN:DAYLIGHT
DTSTART:20250309T030000
TZOFFSETFROM:-0500
TZOFFSETTO:-0400
TZNAME:EDT
END:DAYLIGHT
END:VTIMEZONE
END:VCALENDAR