BEGIN:VCALENDAR
VERSION:2.0
PRODID:-//wp-events-plugin.com//7.2.3.1//EN
TZID:America/Detroit
X-WR-TIMEZONE:America/Detroit
BEGIN:VEVENT
UID:34391@arabamerica.com
DTSTART;TZID=America/Detroit:20250524T140000
DTEND;TZID=America/Detroit:20250524T163000
DTSTAMP:20250506T174030Z
URL:https://www.arabamerica.com/events/screening-of-no-other-land/
SUMMARY:Screening of NO OTHER LAND
DESCRIPTION:PALM SPRINGS\, CA\n\nNo Other Land\, is an Oscar-winning docume
 ntary co-directed by Palestinians Basel Adra and Hamdan Ballal and Israeli
 s Yuval Abraham and Rachel Szor that offers a profound exploration of the 
 ongoing destruction of villages in the West Bank.\n\nAt its core lies the 
 compelling story of Basel Adra\, a Palestinian activist from Masafer Yatta
 \, and Israeli journalist Yuval Abraham\, who unite in their fight against
  the systematic demolition of homes and lives. It serves as a powerful len
 s into the lives disrupted by Israeli policies in the region\, highlightin
 g truths about occupation\, displacement and the Palestinian human spirit.
 \n\nThe screening will be followed by a panel discussion with Palestinian-
 American Aziza Hasan\, Executive Director of NewGround and American-Israel
 i Rabbi David Lazar of Or Hamidbar.
ATTACH;FMTTYPE=image/jpeg:https://www.arabamerica.com/wp-content/uploads/2
 025/05/Screenshot-2025-05-06-at-1.40.47 PM.png
LOCATION:Palm Springs Cultural Center\, 2300 East Baristo Road\, Palm Sprin
 gs\, CA\,  92262\, United States
GEO:33.819976;-116.521179
X-APPLE-STRUCTURED-LOCATION;VALUE=URI;X-ADDRESS=2300 East Baristo Road\, Pa
 lm Springs\, CA\,  92262\, United States;X-APPLE-RADIUS=100;X-TITLE=Palm S
 prings Cultural Center:geo:33.819976,-116.521179
END:VEVENT
BEGIN:VTIMEZONE
TZID:America/Detroit
X-LIC-LOCATION:America/Detroit
BEGIN:DAYLIGHT
DTSTART:20250309T030000
TZOFFSETFROM:-0500
TZOFFSETTO:-0400
TZNAME:EDT
END:DAYLIGHT
END:VTIMEZONE
END:VCALENDAR